Back to Multiple platform build/check report for BioC 3.14
ABCDEFGHIJ[K]LMNOPQRSTUVWXYZ

This page was generated on 2022-01-24 13:04:24 -0500 (Mon, 24 Jan 2022).

HostnameOSArch (*)R versionInstalled pkgs
nebbiolo2Linux (Ubuntu 20.04.4 LTS)x86_644.1.2 (2021-11-01) -- "Bird Hippie" 4329
tokay2Windows Server 2012 R2 Standardx644.1.2 (2021-11-01) -- "Bird Hippie" 4080
machv2macOS 10.14.6 Mojavex86_644.1.2 (2021-11-01) -- "Bird Hippie" 4141
Click on any hostname to see more info about the system (e.g. compilers)      (*) as reported by 'uname -p', except on Windows and Mac OS X

All results for package KEGGgraph


To the developers/maintainers of the KEGGgraph package:
- Please allow up to 24 hours (and sometimes 48 hours) for your latest push to git@git.bioconductor.org:packages/KEGGgraph.git to
reflect on this report. See How and When does the builder pull? When will my changes propagate? here for more information.
- Make sure to use the following settings in order to reproduce any error or warning you see on this page.

raw results

Package 979/2083HostnameOS / ArchINSTALLBUILDCHECKBUILD BIN
KEGGgraph 1.54.0  (landing page)
Jitao David Zhang
Snapshot Date: 2022-01-23 01:55:04 -0500 (Sun, 23 Jan 2022)
git_url: https://git.bioconductor.org/packages/KEGGgraph
git_branch: RELEASE_3_14
git_last_commit: 135ee3d
git_last_commit_date: 2021-10-26 11:53:24 -0500 (Tue, 26 Oct 2021)
nebbiolo2Linux (Ubuntu 20.04.4 LTS) / x86_64  OK    OK    OK  UNNEEDED, same version is already published
tokay2Windows Server 2012 R2 Standard / x64  OK    OK    OK    OK  UNNEEDED, same version is already published
machv2macOS 10.14.6 Mojave / x86_64  OK    OK    OK    OK  UNNEEDED, same version is already published

Results for Bioconductor software packages that depend directly on package KEGGgraph

QUICK STATSOS / ArchINSTALLBUILDCHECKBUILD BIN
nebbiolo2Linux (Ubuntu 20.04.4 LTS) / x86_64
0011
0011
00110
tokay2Windows Server 2012 R2 Standard / x64
009
018
0017
008
machv2macOS 10.14.6 Mojave / x86_64
009
009
0018
009
Package 1/11HostnameOS / ArchINSTALLBUILDCHECKBUILD BIN
clipper 1.34.0  (landing page)
Paolo Martini
git_last_commit: 02cc60b
git_last_commit_date: 2021-10-26 12:06:27 -0500
nebbiolo2Linux (Ubuntu 20.04.4 LTS) / x86_64  OK    OK    OK  UNNEEDED, same version is already published
tokay2Windows Server 2012 R2 Standard / x64  OK    OK    OK    OK  UNNEEDED, same version is already published
machv2macOS 10.14.6 Mojave / x86_64  OK    OK    OK    OK  UNNEEDED, same version is already published
Package 2/11HostnameOS / ArchINSTALLBUILDCHECKBUILD BIN
DEGraph 1.46.0  (landing page)
Laurent Jacob
git_last_commit: c3c8b03
git_last_commit_date: 2021-10-26 11:57:33 -0500
nebbiolo2Linux (Ubuntu 20.04.4 LTS) / x86_64  OK    OK    OK  UNNEEDED, same version is already published
tokay2Windows Server 2012 R2 Standard / x64... NOT SUPPORTED ...
machv2macOS 10.14.6 Mojave / x86_64... NOT SUPPORTED ...
Package 3/11HostnameOS / ArchINSTALLBUILDCHECKBUILD BIN
EnrichmentBrowser 2.24.1  (landing page)
Ludwig Geistlinger
git_last_commit: 30747bc
git_last_commit_date: 2021-12-15 18:46:45 -0500
nebbiolo2Linux (Ubuntu 20.04.4 LTS) / x86_64  OK    OK    OK  UNNEEDED, same version is already published
tokay2Windows Server 2012 R2 Standard / x64  OK    ERROR  skippedskipped
machv2macOS 10.14.6 Mojave / x86_64  OK    OK    OK    OK  UNNEEDED, same version is already published
Package 4/11HostnameOS / ArchINSTALLBUILDCHECKBUILD BIN
KEGGlincs 1.20.0  (landing page)
Shana White , Mario Medvedovic
git_last_commit: 65205d4
git_last_commit_date: 2021-10-26 12:30:32 -0500
nebbiolo2Linux (Ubuntu 20.04.4 LTS) / x86_64  OK    OK    OK  UNNEEDED, same version is already published
tokay2Windows Server 2012 R2 Standard / x64  OK    OK    OK    OK  UNNEEDED, same version is already published
machv2macOS 10.14.6 Mojave / x86_64  OK    OK    OK    OK  UNNEEDED, same version is already published
Package 5/11HostnameOS / ArchINSTALLBUILDCHECKBUILD BIN
MetaboSignal 1.24.0  (landing page)
Andrea Rodriguez-Martinez
git_last_commit: 4e4f9da
git_last_commit_date: 2021-10-26 12:29:51 -0500
nebbiolo2Linux (Ubuntu 20.04.4 LTS) / x86_64  OK    OK    OK  UNNEEDED, same version is already published
tokay2Windows Server 2012 R2 Standard / x64  OK    OK    OK    OK  UNNEEDED, same version is already published
machv2macOS 10.14.6 Mojave / x86_64  OK    OK    OK    OK  UNNEEDED, same version is already published
Package 6/11HostnameOS / ArchINSTALLBUILDCHECKBUILD BIN
MWASTools 1.18.0  (landing page)
Andrea Rodriguez-Martinez , Rafael Ayala
git_last_commit: 17465ce
git_last_commit_date: 2021-10-26 12:31:39 -0500
nebbiolo2Linux (Ubuntu 20.04.4 LTS) / x86_64  OK    OK    OK  UNNEEDED, same version is already published
tokay2Windows Server 2012 R2 Standard / x64  OK    OK    OK    OK  UNNEEDED, same version is already published
machv2macOS 10.14.6 Mojave / x86_64  OK    OK    OK    OK  UNNEEDED, same version is already published
Package 7/11HostnameOS / ArchINSTALLBUILDCHECKBUILD BIN
NCIgraph 1.42.0  (landing page)
Laurent Jacob
git_last_commit: a3876c0
git_last_commit_date: 2021-10-26 11:58:45 -0500
nebbiolo2Linux (Ubuntu 20.04.4 LTS) / x86_64  OK    OK    OK  UNNEEDED, same version is already published
tokay2Windows Server 2012 R2 Standard / x64... NOT SUPPORTED ...
machv2macOS 10.14.6 Mojave / x86_64... NOT SUPPORTED ...
Package 8/11HostnameOS / ArchINSTALLBUILDCHECKBUILD BIN
pathview 1.34.0  (landing page)
Weijun Luo
git_last_commit: a878890
git_last_commit_date: 2021-10-26 12:07:10 -0500
nebbiolo2Linux (Ubuntu 20.04.4 LTS) / x86_64  OK    OK    WARNINGS  UNNEEDED, same version is already published
tokay2Windows Server 2012 R2 Standard / x64  OK    OK    WARNINGS    OK  UNNEEDED, same version is already published
machv2macOS 10.14.6 Mojave / x86_64  OK    OK    WARNINGS    OK  UNNEEDED, same version is already published
Package 9/11HostnameOS / ArchINSTALLBUILDCHECKBUILD BIN
PFP 1.2.0  (landing page)
XC Zhang
git_last_commit: 0d1251a
git_last_commit_date: 2021-10-26 13:06:03 -0500
nebbiolo2Linux (Ubuntu 20.04.4 LTS) / x86_64  OK    OK    OK  UNNEEDED, same version is already published
tokay2Windows Server 2012 R2 Standard / x64  OK    OK    OK    OK  UNNEEDED, same version is already published
machv2macOS 10.14.6 Mojave / x86_64  OK    OK    OK    OK  UNNEEDED, same version is already published
Package 10/11HostnameOS / ArchINSTALLBUILDCHECKBUILD BIN
ROntoTools 2.22.0  (landing page)
Calin Voichita
git_last_commit: 9600abd
git_last_commit_date: 2021-10-26 12:07:29 -0500
nebbiolo2Linux (Ubuntu 20.04.4 LTS) / x86_64  OK    OK    OK  UNNEEDED, same version is already published
tokay2Windows Server 2012 R2 Standard / x64  OK    OK    OK    OK  UNNEEDED, same version is already published
machv2macOS 10.14.6 Mojave / x86_64  OK    OK    OK    OK  UNNEEDED, same version is already published
Package 11/11HostnameOS / ArchINSTALLBUILDCHECKBUILD BIN
SPIA 2.46.0  (landing page)
Adi Laurentiu Tarca
git_last_commit: 9f45604
git_last_commit_date: 2021-10-26 11:53:33 -0500
nebbiolo2Linux (Ubuntu 20.04.4 LTS) / x86_64  OK    OK    OK  UNNEEDED, same version is already published
tokay2Windows Server 2012 R2 Standard / x64  OK    OK    OK    OK  UNNEEDED, same version is already published
machv2macOS 10.14.6 Mojave / x86_64  OK    OK    OK    OK  UNNEEDED, same version is already published