Name | Last modified | Size | Description | |
---|---|---|---|---|
Parent Directory | - | |||
buildbin-summary.dcf | 14-Apr-2022 01:08 | 615 | ||
buildbin-out.txt | 14-Apr-2022 01:08 | 2.8K | ||
checksrc-summary.dcf | 14-Apr-2022 01:08 | 501 | ||
checksrc-out.txt | 14-Apr-2022 01:08 | 13K | ||
buildsrc-summary.dcf | 14-Apr-2022 01:08 | 470 | ||
buildsrc-out.txt | 14-Apr-2022 01:08 | 965 | ||
install-summary.dcf | 14-Apr-2022 01:08 | 297 | ||
install-out.txt | 14-Apr-2022 01:08 | 1.7K | ||