Back to Multiple platform build/check report for BioC 3.14
ABCDEFGH[I]JKLMNOPQRSTUVWXYZ

This page was generated on 2022-01-21 13:06:32 -0500 (Fri, 21 Jan 2022).

HostnameOSArch (*)R versionInstalled pkgs
nebbiolo2Linux (Ubuntu 20.04.4 LTS)x86_644.1.2 (2021-11-01) -- "Bird Hippie" 4329
tokay2Windows Server 2012 R2 Standardx644.1.2 (2021-11-01) -- "Bird Hippie" 4079
machv2macOS 10.14.6 Mojavex86_644.1.2 (2021-11-01) -- "Bird Hippie" 4140
Click on any hostname to see more info about the system (e.g. compilers)      (*) as reported by 'uname -p', except on Windows and Mac OS X

CHECK results for IsoCorrectoRGUI on tokay2


To the developers/maintainers of the IsoCorrectoRGUI package:
- Please allow up to 24 hours (and sometimes 48 hours) for your latest push to git@git.bioconductor.org:packages/IsoCorrectoRGUI.git to
reflect on this report. See How and When does the builder pull? When will my changes propagate? here for more information.
- Make sure to use the following settings in order to reproduce any error or warning you see on this page.

raw results

Package 962/2083HostnameOS / ArchINSTALLBUILDCHECKBUILD BIN
IsoCorrectoRGUI 1.10.0  (landing page)
Christian Kohler
Snapshot Date: 2022-01-20 01:55:04 -0500 (Thu, 20 Jan 2022)
git_url: https://git.bioconductor.org/packages/IsoCorrectoRGUI
git_branch: RELEASE_3_14
git_last_commit: d29ebaf
git_last_commit_date: 2021-10-26 12:48:24 -0500 (Tue, 26 Oct 2021)
nebbiolo2Linux (Ubuntu 20.04.4 LTS) / x86_64  OK    OK    OK  UNNEEDED, same version is already published
tokay2Windows Server 2012 R2 Standard / x64  OK    OK    OK    OK  UNNEEDED, same version is already published
machv2macOS 10.14.6 Mojave / x86_64  OK    OK    OK    OK  UNNEEDED, same version is already published

Summary

Package: IsoCorrectoRGUI
Version: 1.10.0
Command: C:\Users\biocbuild\bbs-3.14-bioc\R\bin\R.exe CMD check --force-multiarch --install=check:IsoCorrectoRGUI.install-out.txt --library=C:\Users\biocbuild\bbs-3.14-bioc\R\library --no-vignettes --timings IsoCorrectoRGUI_1.10.0.tar.gz
StartedAt: 2022-01-20 21:52:45 -0500 (Thu, 20 Jan 2022)
EndedAt: 2022-01-20 21:54:11 -0500 (Thu, 20 Jan 2022)
EllapsedTime: 85.2 seconds
RetCode: 0
Status:   OK  
CheckDir: IsoCorrectoRGUI.Rcheck
Warnings: 0

Command output

##############################################################################
##############################################################################
###
### Running command:
###
###   C:\Users\biocbuild\bbs-3.14-bioc\R\bin\R.exe CMD check --force-multiarch --install=check:IsoCorrectoRGUI.install-out.txt --library=C:\Users\biocbuild\bbs-3.14-bioc\R\library --no-vignettes --timings IsoCorrectoRGUI_1.10.0.tar.gz
###
##############################################################################
##############################################################################


* using log directory 'C:/Users/biocbuild/bbs-3.14-bioc/meat/IsoCorrectoRGUI.Rcheck'
* using R version 4.1.2 (2021-11-01)
* using platform: x86_64-w64-mingw32 (64-bit)
* using session charset: ISO8859-1
* using option '--no-vignettes'
* checking for file 'IsoCorrectoRGUI/DESCRIPTION' ... OK
* this is package 'IsoCorrectoRGUI' version '1.10.0'
* checking package namespace information ... OK
* checking package dependencies ... OK
* checking if this is a source package ... OK
* checking if there is a namespace ... OK
* checking for hidden files and directories ... OK
* checking for portable file names ... OK
* checking whether package 'IsoCorrectoRGUI' can be installed ... OK
* checking installed package size ... OK
* checking package directory ... OK
* checking 'build' directory ... OK
* checking DESCRIPTION meta-information ... OK
* checking top-level files ... OK
* checking for left-over files ... OK
* checking index information ... OK
* checking package subdirectories ... OK
* checking R files for non-ASCII characters ... OK
* checking R files for syntax errors ... OK
* loading checks for arch 'i386'
** checking whether the package can be loaded ... OK
** checking whether the package can be loaded with stated dependencies ... OK
** checking whether the package can be unloaded cleanly ... OK
** checking whether the namespace can be loaded with stated dependencies ... OK
** checking whether the namespace can be unloaded cleanly ... OK
* loading checks for arch 'x64'
** checking whether the package can be loaded ... OK
** checking whether the package can be loaded with stated dependencies ... OK
** checking whether the package can be unloaded cleanly ... OK
** checking whether the namespace can be loaded with stated dependencies ... OK
** checking whether the namespace can be unloaded cleanly ... OK
* checking dependencies in R code ... OK
* checking S3 generic/method consistency ... OK
* checking replacement functions ... OK
* checking foreign function calls ... OK
* checking R code for possible problems ... OK
* checking Rd files ... OK
* checking Rd metadata ... OK
* checking Rd cross-references ... OK
* checking for missing documentation entries ... OK
* checking for code/documentation mismatches ... OK
* checking Rd \usage sections ... OK
* checking Rd contents ... OK
* checking for unstated dependencies in examples ... OK
* checking files in 'vignettes' ... OK
* checking examples ...
** running examples for arch 'i386' ... OK
** running examples for arch 'x64' ... OK
* checking for unstated dependencies in 'tests' ... OK
* checking tests ...
** running tests for arch 'i386' ...
  Running 'testthat.R'
 OK
** running tests for arch 'x64' ...
  Running 'testthat.R'
 OK
* checking for unstated dependencies in vignettes ... OK
* checking package vignettes in 'inst/doc' ... OK
* checking running R code from vignettes ... SKIPPED
* checking re-building of vignette outputs ... SKIPPED
* checking PDF version of manual ... OK
* DONE

Status: OK


Installation output

IsoCorrectoRGUI.Rcheck/00install.out

##############################################################################
##############################################################################
###
### Running command:
###
###   C:\cygwin\bin\curl.exe -O http://155.52.207.166/BBS/3.14/bioc/src/contrib/IsoCorrectoRGUI_1.10.0.tar.gz && rm -rf IsoCorrectoRGUI.buildbin-libdir && mkdir IsoCorrectoRGUI.buildbin-libdir && C:\Users\biocbuild\bbs-3.14-bioc\R\bin\R.exe CMD INSTALL --merge-multiarch --build --library=IsoCorrectoRGUI.buildbin-libdir IsoCorrectoRGUI_1.10.0.tar.gz && C:\Users\biocbuild\bbs-3.14-bioc\R\bin\R.exe CMD INSTALL IsoCorrectoRGUI_1.10.0.zip && rm IsoCorrectoRGUI_1.10.0.tar.gz IsoCorrectoRGUI_1.10.0.zip
###
##############################################################################
##############################################################################


  % Total    % Received % Xferd  Average Speed   Time    Time     Time  Current
                                 Dload  Upload   Total   Spent    Left  Speed

  0     0    0     0    0     0      0      0 --:--:-- --:--:-- --:--:--     0
100  206k  100  206k    0     0   917k      0 --:--:-- --:--:-- --:--:--  922k

install for i386

* installing *source* package 'IsoCorrectoRGUI' ...
** using staged installation
** R
** inst
** byte-compile and prepare package for lazy loading
** help
*** installing help indices
  converting help for package 'IsoCorrectoRGUI'
    finding HTML links ... done
    GetGUIstatus                            html  
    IsoCorrectionGUI                        html  
** building package indices
** installing vignettes
** testing if installed package can be loaded from temporary location
** testing if installed package can be loaded from final location
** testing if installed package keeps a record of temporary installation path

install for x64

* installing *source* package 'IsoCorrectoRGUI' ...
** testing if installed package can be loaded
* MD5 sums
packaged installation of 'IsoCorrectoRGUI' as IsoCorrectoRGUI_1.10.0.zip
* DONE (IsoCorrectoRGUI)
* installing to library 'C:/Users/biocbuild/bbs-3.14-bioc/R/library'
package 'IsoCorrectoRGUI' successfully unpacked and MD5 sums checked

Tests output

IsoCorrectoRGUI.Rcheck/tests_i386/testthat.Rout


R version 4.1.2 (2021-11-01) -- "Bird Hippie"
Copyright (C) 2021 The R Foundation for Statistical Computing
Platform: i386-w64-mingw32/i386 (32-bit)

R is free software and comes with ABSOLUTELY NO WARRANTY.
You are welcome to redistribute it under certain conditions.
Type 'license()' or 'licence()' for distribution details.

R is a collaborative project with many contributors.
Type 'contributors()' for more information and
'citation()' on how to cite R or R packages in publications.

Type 'demo()' for some demos, 'help()' for on-line help, or
'help.start()' for an HTML browser interface to help.
Type 'q()' to quit R.

> library(testthat)
> library(IsoCorrectoRGUI)
IsoCorrectoRGUI v1.10.0

For help, type browseVignettes('IsoCorrectoRGUI') to view the IsoCorrectoRGUI documentation or ?IsoCorrectionGUI
to view the documentation of the IsoCorrectionGUI() function.

IsoCorrectoRGUI is licensed under GPL-3. It is free software and comes without any warranty.

If you use IsoCorrectoRGUI in published research, please cite:

Paul Heinrich, Christian Kohler et al.
Correction for natural isotope abundance and tracer impurity in MS-, MS/MS- and high-resolution multiple-tracer-data from stable isotope labeling experiments using IsoCorrectoR (Scientific reports, 2018)


> 
> test_check("IsoCorrectoRGUI")
[ FAIL 0 | WARN 0 | SKIP 0 | PASS 4 ]
> 
> proc.time()
   user  system elapsed 
   1.60    0.29    1.90 

IsoCorrectoRGUI.Rcheck/tests_x64/testthat.Rout


R version 4.1.2 (2021-11-01) -- "Bird Hippie"
Copyright (C) 2021 The R Foundation for Statistical Computing
Platform: x86_64-w64-mingw32/x64 (64-bit)

R is free software and comes with ABSOLUTELY NO WARRANTY.
You are welcome to redistribute it under certain conditions.
Type 'license()' or 'licence()' for distribution details.

R is a collaborative project with many contributors.
Type 'contributors()' for more information and
'citation()' on how to cite R or R packages in publications.

Type 'demo()' for some demos, 'help()' for on-line help, or
'help.start()' for an HTML browser interface to help.
Type 'q()' to quit R.

> library(testthat)
> library(IsoCorrectoRGUI)
IsoCorrectoRGUI v1.10.0

For help, type browseVignettes('IsoCorrectoRGUI') to view the IsoCorrectoRGUI documentation or ?IsoCorrectionGUI
to view the documentation of the IsoCorrectionGUI() function.

IsoCorrectoRGUI is licensed under GPL-3. It is free software and comes without any warranty.

If you use IsoCorrectoRGUI in published research, please cite:

Paul Heinrich, Christian Kohler et al.
Correction for natural isotope abundance and tracer impurity in MS-, MS/MS- and high-resolution multiple-tracer-data from stable isotope labeling experiments using IsoCorrectoR (Scientific reports, 2018)


> 
> test_check("IsoCorrectoRGUI")
[ FAIL 0 | WARN 0 | SKIP 0 | PASS 4 ]
> 
> proc.time()
   user  system elapsed 
   1.70    0.28    1.96 

Example timings

IsoCorrectoRGUI.Rcheck/examples_i386/IsoCorrectoRGUI-Ex.timings

nameusersystemelapsed
GetGUIstatus000
IsoCorrectionGUI0.030.020.11

IsoCorrectoRGUI.Rcheck/examples_x64/IsoCorrectoRGUI-Ex.timings

nameusersystemelapsed
GetGUIstatus000
IsoCorrectionGUI0.020.000.05