Name | Last modified | Size | Description | |
---|---|---|---|---|
Parent Directory | - | |||
install-summary.dcf | 14-Apr-2022 01:06 | 712 | ||
install-out.txt | 14-Apr-2022 01:06 | 2.2K | ||
checksrc-summary.dcf | 14-Apr-2022 01:06 | 494 | ||
checksrc-out.txt | 14-Apr-2022 01:06 | 3.6K | ||
buildsrc-summary.dcf | 14-Apr-2022 01:06 | 488 | ||
buildsrc-out.txt | 14-Apr-2022 01:06 | 922 | ||
buildbin-summary.dcf | 14-Apr-2022 01:06 | 587 | ||
buildbin-out.txt | 14-Apr-2022 01:06 | 1.5K | ||