Name | Last modified | Size | Description | |
---|---|---|---|---|
Parent Directory | - | |||
buildsrc-summary.dcf | 14-Apr-2022 01:06 | 453 | ||
checksrc-summary.dcf | 14-Apr-2022 01:06 | 464 | ||
buildbin-summary.dcf | 14-Apr-2022 01:06 | 533 | ||
install-summary.dcf | 14-Apr-2022 01:06 | 631 | ||
buildsrc-out.txt | 14-Apr-2022 01:06 | 842 | ||
buildbin-out.txt | 14-Apr-2022 01:06 | 2.8K | ||
install-out.txt | 14-Apr-2022 01:06 | 3.5K | ||
checksrc-out.txt | 14-Apr-2022 01:06 | 5.2K | ||