Name | Last modified | Size | Description | |
---|---|---|---|---|
Parent Directory | - | |||
install-summary.dcf | 14-Apr-2022 01:05 | 257 | ||
buildsrc-summary.dcf | 14-Apr-2022 01:05 | 413 | ||
checksrc-summary.dcf | 14-Apr-2022 01:05 | 425 | ||
buildsrc-out.txt | 14-Apr-2022 01:05 | 808 | ||
install-out.txt | 14-Apr-2022 01:05 | 1.4K | ||
checksrc-out.txt | 14-Apr-2022 01:05 | 3.7K | ||