Name | Last modified | Size | Description | |
---|---|---|---|---|
Parent Directory | - | |||
install-out.txt | 14-Apr-2022 01:08 | 1.6K | ||
install-summary.dcf | 14-Apr-2022 01:08 | 267 | ||
buildsrc-out.txt | 14-Apr-2022 01:08 | 818 | ||
buildsrc-summary.dcf | 14-Apr-2022 01:08 | 423 | ||
checksrc-out.txt | 14-Apr-2022 01:08 | 3.7K | ||
checksrc-summary.dcf | 14-Apr-2022 01:08 | 446 | ||
buildbin-out.txt | 14-Apr-2022 01:08 | 2.4K | ||
buildbin-summary.dcf | 14-Apr-2022 01:08 | 523 | ||