Back to Multiple platform build/check report for BioC 3.14
ABCDEFG[H]IJKLMNOPQRSTUVWXYZ

This page was generated on 2021-11-26 15:04:28 -0500 (Fri, 26 Nov 2021).

All results for package HiCcompare

To the developers/maintainers of the HiCcompare package:
- Please allow up to 24 hours (and sometimes 48 hours) for your latest push to git@git.bioconductor.org:packages/HiCcompare.git to
reflect on this report. See How and When does the builder pull? When will my changes propagate? here for more information.
- Make sure to use the following settings in order to reproduce any error or warning you see on this page.

raw results

Package 867/2083HostnameOS / ArchINSTALLBUILDCHECKBUILD BIN
HiCcompare 1.16.0  (landing page)
John Stansfield , Mikhail Dozmorov
Snapshot Date: 2021-11-25 04:15:05 -0500 (Thu, 25 Nov 2021)
git_url: https://git.bioconductor.org/packages/HiCcompare
git_branch: RELEASE_3_14
git_last_commit: dafc05f
git_last_commit_date: 2021-10-26 12:36:44 -0500 (Tue, 26 Oct 2021)
nebbiolo2Linux (Ubuntu 20.04.3 LTS) / x86_64  OK    OK    WARNINGS  UNNEEDED, same version is already published
tokay2Windows Server 2012 R2 Standard / x64  OK    OK    WARNINGS    OK  UNNEEDED, same version is already published
machv2macOS 10.14.6 Mojave / x86_64  OK    OK    WARNINGS    OK  UNNEEDED, same version is already published

Results for Bioconductor software packages that depend directly on package HiCcompare

QUICK STATSOS / ArchINSTALLBUILDCHECKBUILD BIN
nebbiolo2Linux (Ubuntu 20.04.3 LTS) / x86_64
003
003
0003
tokay2Windows Server 2012 R2 Standard / x64
003
003
0003
003
machv2macOS 10.14.6 Mojave / x86_64
003
003
0003
003
Package 1/3HostnameOS / ArchINSTALLBUILDCHECKBUILD BIN
multiHiCcompare 1.12.0  (landing page)
John Stansfield , Mikhail Dozmorov
git_last_commit: 718f593
git_last_commit_date: 2021-10-26 12:46:12 -0500
nebbiolo2Linux (Ubuntu 20.04.3 LTS) / x86_64  OK    OK    OK  UNNEEDED, same version is already published
tokay2Windows Server 2012 R2 Standard / x64  OK    OK    OK    OK  UNNEEDED, same version is already published
machv2macOS 10.14.6 Mojave / x86_64  OK    OK    OK    OK  UNNEEDED, same version is already published
Package 2/3HostnameOS / ArchINSTALLBUILDCHECKBUILD BIN
SpectralTAD 1.10.0  (landing page)
Kellen Cresswell
git_last_commit: c041eff
git_last_commit_date: 2021-10-26 12:49:40 -0500
nebbiolo2Linux (Ubuntu 20.04.3 LTS) / x86_64  OK    OK    OK  UNNEEDED, same version is already published
tokay2Windows Server 2012 R2 Standard / x64  OK    OK    OK    OK  UNNEEDED, same version is already published
machv2macOS 10.14.6 Mojave / x86_64  OK    OK    OK    OK  UNNEEDED, same version is already published
Package 3/3HostnameOS / ArchINSTALLBUILDCHECKBUILD BIN
TADCompare 1.4.0  (landing page)
Kellen Cresswell
git_last_commit: 8b7f9ac
git_last_commit_date: 2021-10-26 13:00:00 -0500
nebbiolo2Linux (Ubuntu 20.04.3 LTS) / x86_64  OK    OK    OK  UNNEEDED, same version is already published
tokay2Windows Server 2012 R2 Standard / x64  OK    OK    OK    OK  UNNEEDED, same version is already published
machv2macOS 10.14.6 Mojave / x86_64  OK    OK    OK    OK  UNNEEDED, same version is already published