Name | Last modified | Size | Description | |
---|---|---|---|---|
Parent Directory | - | |||
install-summary.dcf | 14-Apr-2022 01:06 | 599 | ||
install-out.txt | 14-Apr-2022 01:06 | 479K | ||
checksrc-summary.dcf | 14-Apr-2022 01:06 | 450 | ||
checksrc-out.txt | 14-Apr-2022 01:06 | 5.5K | ||
buildsrc-summary.dcf | 14-Apr-2022 01:06 | 438 | ||
buildsrc-out.txt | 14-Apr-2022 01:06 | 916 | ||
buildbin-summary.dcf | 14-Apr-2022 01:06 | 513 | ||
buildbin-out.txt | 14-Apr-2022 01:06 | 479K | ||