Name | Last modified | Size | Description | |
---|---|---|---|---|
Parent Directory | - | |||
buildbin-summary.dcf | 14-Apr-2022 01:08 | 571 | ||
buildbin-out.txt | 14-Apr-2022 01:08 | 4.4K | ||
checksrc-summary.dcf | 14-Apr-2022 01:08 | 471 | ||
checksrc-out.txt | 14-Apr-2022 01:08 | 4.7K | ||
buildsrc-summary.dcf | 14-Apr-2022 01:08 | 448 | ||
buildsrc-out.txt | 14-Apr-2022 01:08 | 874 | ||
install-summary.dcf | 14-Apr-2022 01:08 | 282 | ||
install-out.txt | 14-Apr-2022 01:08 | 3.5K | ||