Name | Last modified | Size | Description | |
---|---|---|---|---|
Parent Directory | - | |||
checksrc-summary.dcf | 14-Apr-2022 01:05 | 434 | ||
checksrc-out.txt | 14-Apr-2022 01:05 | 4.8K | ||
buildsrc-summary.dcf | 14-Apr-2022 01:05 | 425 | ||
buildsrc-out.txt | 14-Apr-2022 01:05 | 817 | ||
install-summary.dcf | 14-Apr-2022 01:05 | 264 | ||
install-out.txt | 14-Apr-2022 01:05 | 956 | ||