Name | Last modified | Size | Description | |
---|---|---|---|---|
Parent Directory | - | |||
buildsrc-summary.dcf | 14-Apr-2022 01:06 | 483 | ||
checksrc-summary.dcf | 14-Apr-2022 01:06 | 486 | ||
buildbin-summary.dcf | 14-Apr-2022 01:06 | 575 | ||
install-summary.dcf | 14-Apr-2022 01:06 | 695 | ||
buildsrc-out.txt | 14-Apr-2022 01:06 | 907 | ||
checksrc-out.txt | 14-Apr-2022 01:06 | 5.0K | ||
buildbin-out.txt | 14-Apr-2022 01:06 | 8.7K | ||
install-out.txt | 14-Apr-2022 01:06 | 9.4K | ||