Name | Last modified | Size | Description | |
---|---|---|---|---|
Parent Directory | - | |||
buildsrc-out.txt | 14-Apr-2022 01:05 | 860 | ||
buildsrc-summary.dcf | 14-Apr-2022 01:05 | 436 | ||
checksrc-out.txt | 14-Apr-2022 01:05 | 3.5K | ||
checksrc-summary.dcf | 14-Apr-2022 01:05 | 448 | ||
install-out.txt | 14-Apr-2022 01:05 | 3.1K | ||
install-summary.dcf | 14-Apr-2022 01:05 | 271 | ||