Back to Multiple platform build/check report for BioC 3.14
ABCDEF[G]HIJKLMNOPQRSTUVWXYZ

This page was generated on 2021-11-24 15:04:34 -0500 (Wed, 24 Nov 2021).

All results for package GenomicRanges

To the developers/maintainers of the GenomicRanges package:
- Please allow up to 24 hours (and sometimes 48 hours) for your latest push to git@git.bioconductor.org:packages/GenomicRanges.git to
reflect on this report. See How and When does the builder pull? When will my changes propagate? here for more information.
- Make sure to use the following settings in order to reproduce any error or warning you see on this page.

raw results

Package 756/2083HostnameOS / ArchINSTALLBUILDCHECKBUILD BIN
GenomicRanges 1.46.1  (landing page)
Bioconductor Package Maintainer
Snapshot Date: 2021-11-23 04:15:06 -0500 (Tue, 23 Nov 2021)
git_url: https://git.bioconductor.org/packages/GenomicRanges
git_branch: RELEASE_3_14
git_last_commit: e422642
git_last_commit_date: 2021-11-16 14:11:31 -0500 (Tue, 16 Nov 2021)
nebbiolo2Linux (Ubuntu 20.04.3 LTS) / x86_64  OK    OK    OK  UNNEEDED, same version is already published
tokay2Windows Server 2012 R2 Standard / x64  OK    OK    OK    OK  UNNEEDED, same version is already published
machv2macOS 10.14.6 Mojave / x86_64  OK    OK    OK    OK  UNNEEDED, same version is already published

Results for Bioconductor software packages that depend directly on package GenomicRanges

QUICK STATSOS / ArchINSTALLBUILDCHECKBUILD BIN
nebbiolo2Linux (Ubuntu 20.04.3 LTS) / x86_64
00493
013480
01081389
tokay2Windows Server 2012 R2 Standard / x64
00479
013466
01682368
01465
machv2macOS 10.14.6 Mojave / x86_64
00491
08483
01078395
00483
Package 1/493HostnameOS / ArchINSTALLBUILDCHECKBUILD BIN
ACE 1.12.0  (landing page)
Jos B Poell
git_last_commit: 543b422
git_last_commit_date: 2021-10-26 12:45:46 -0500
nebbiolo2Linux (Ubuntu 20.04.3 LTS) / x86_64  OK    OK    OK  UNNEEDED, same version is already published
tokay2Windows Server 2012 R2 Standard / x64  OK    OK    OK    OK  UNNEEDED, same version is already published
machv2macOS 10.14.6 Mojave / x86_64  OK    OK    OK    OK  UNNEEDED, same version is already published
Package 2/493HostnameOS / ArchINSTALLBUILDCHECKBUILD BIN
ALDEx2 1.26.0  (landing page)
Greg Gloor
git_last_commit: 0876a2e
git_last_commit_date: 2021-10-26 12:16:13 -0500
nebbiolo2Linux (Ubuntu 20.04.3 LTS) / x86_64  OK    OK    OK  UNNEEDED, same version is already published
tokay2Windows Server 2012 R2 Standard / x64  OK    OK    OK    OK  UNNEEDED, same version is already published
machv2macOS 10.14.6 Mojave / x86_64  OK    OK    OK    OK  UNNEEDED, same version is already published
Package 3/493HostnameOS / ArchINSTALLBUILDCHECKBUILD BIN
AllelicImbalance 1.32.0  (landing page)
Jesper R Gadin
git_last_commit: 428ab8c
git_last_commit_date: 2021-10-26 12:10:09 -0500
nebbiolo2Linux (Ubuntu 20.04.3 LTS) / x86_64  OK    OK    OK  UNNEEDED, same version is already published
tokay2Windows Server 2012 R2 Standard / x64  OK    OK    OK    OK  UNNEEDED, same version is already published
machv2macOS 10.14.6 Mojave / x86_64  OK    OK    OK    OK  UNNEEDED, same version is already published
Package 4/493HostnameOS / ArchINSTALLBUILDCHECKBUILD BIN
alpine 1.20.0  (landing page)
Michael Love
git_last_commit: 9348ef1
git_last_commit_date: 2021-10-26 12:29:39 -0500
nebbiolo2Linux (Ubuntu 20.04.3 LTS) / x86_64  OK    OK    OK  UNNEEDED, same version is already published
tokay2Windows Server 2012 R2 Standard / x64  OK    OK    OK    OK  UNNEEDED, same version is already published
machv2macOS 10.14.6 Mojave / x86_64  OK    OK    OK    OK  UNNEEDED, same version is already published
Package 5/493HostnameOS / ArchINSTALLBUILDCHECKBUILD BIN
ALPS 1.8.0  (landing page)
Venu Thatikonda
git_last_commit: 3dd0106
git_last_commit_date: 2021-10-26 12:55:19 -0500
nebbiolo2Linux (Ubuntu 20.04.3 LTS) / x86_64  OK    ERROR  skipped
tokay2Windows Server 2012 R2 Standard / x64  OK    ERROR  skippedskipped
machv2macOS 10.14.6 Mojave / x86_64  OK    ERROR  skippedskipped
Package 6/493HostnameOS / ArchINSTALLBUILDCHECKBUILD BIN
amplican 1.16.0  (landing page)
Eivind Valen
git_last_commit: afffd18
git_last_commit_date: 2021-10-26 12:37:57 -0500
nebbiolo2Linux (Ubuntu 20.04.3 LTS) / x86_64  OK    OK    OK  UNNEEDED, same version is already published
tokay2Windows Server 2012 R2 Standard / x64  OK    OK    OK    OK  UNNEEDED, same version is already published
machv2macOS 10.14.6 Mojave / x86_64  OK    OK    OK    OK  UNNEEDED, same version is already published
Package 7/493HostnameOS / ArchINSTALLBUILDCHECKBUILD BIN
AneuFinder 1.22.0  (landing page)
Aaron Taudt
git_last_commit: ea0beb3
git_last_commit_date: 2021-10-26 12:26:30 -0500
nebbiolo2Linux (Ubuntu 20.04.3 LTS) / x86_64  OK    OK    OK  UNNEEDED, same version is already published
tokay2Windows Server 2012 R2 Standard / x64  OK    OK    OK    OK  UNNEEDED, same version is already published
machv2macOS 10.14.6 Mojave / x86_64  OK    OK    OK    OK  UNNEEDED, same version is already published
Package 8/493HostnameOS / ArchINSTALLBUILDCHECKBUILD BIN
annmap 1.36.0  (landing page)
Chris Wirth
git_last_commit: 0bb7da5
git_last_commit_date: 2021-10-26 12:03:22 -0500
nebbiolo2Linux (Ubuntu 20.04.3 LTS) / x86_64  OK    OK    ERROR  
tokay2Windows Server 2012 R2 Standard / x64... NOT SUPPORTED ...
machv2macOS 10.14.6 Mojave / x86_64  OK    OK    ERROR    OK  
Package 9/493HostnameOS / ArchINSTALLBUILDCHECKBUILD BIN
AnnotationFilter 1.18.0  (landing page)
Bioconductor Package Maintainer
git_last_commit: 60a9b66
git_last_commit_date: 2021-10-26 12:34:17 -0500
nebbiolo2Linux (Ubuntu 20.04.3 LTS) / x86_64  OK    OK    OK  UNNEEDED, same version is already published
tokay2Windows Server 2012 R2 Standard / x64  OK    OK    OK    OK  UNNEEDED, same version is already published
machv2macOS 10.14.6 Mojave / x86_64  OK    OK    OK    OK  UNNEEDED, same version is already published
Package 10/493HostnameOS / ArchINSTALLBUILDCHECKBUILD BIN
AnnotationHubData 1.24.0  (landing page)
Bioconductor Package Maintainer
git_last_commit: ee4eb9b
git_last_commit_date: 2021-10-26 12:22:19 -0500
nebbiolo2Linux (Ubuntu 20.04.3 LTS) / x86_64  OK    OK    WARNINGS  UNNEEDED, same version is already published
tokay2Windows Server 2012 R2 Standard / x64  OK    OK    WARNINGS    OK  UNNEEDED, same version is already published
machv2macOS 10.14.6 Mojave / x86_64  OK    OK    WARNINGS    OK  UNNEEDED, same version is already published
Package 11/493HostnameOS / ArchINSTALLBUILDCHECKBUILD BIN
annotatr 1.20.0  (landing page)
Raymond G. Cavalcante
git_last_commit: aa03096
git_last_commit_date: 2021-10-26 12:30:59 -0500
nebbiolo2Linux (Ubuntu 20.04.3 LTS) / x86_64  OK    OK    OK  UNNEEDED, same version is already published
tokay2Windows Server 2012 R2 Standard / x64  OK    OK    OK    OK  UNNEEDED, same version is already published
machv2macOS 10.14.6 Mojave / x86_64  OK    OK    OK    OK  UNNEEDED, same version is already published
Package 12/493HostnameOS / ArchINSTALLBUILDCHECKBUILD BIN
APAlyzer 1.8.0  (landing page)
Ruijia Wang
git_last_commit: 4df8ba6
git_last_commit_date: 2021-10-26 12:53:30 -0500
nebbiolo2Linux (Ubuntu 20.04.3 LTS) / x86_64  OK    OK    WARNINGS  UNNEEDED, same version is already published
tokay2Windows Server 2012 R2 Standard / x64  OK    OK    WARNINGS    OK  UNNEEDED, same version is already published
machv2macOS 10.14.6 Mojave / x86_64  OK    OK    WARNINGS    OK  UNNEEDED, same version is already published
Package 13/493HostnameOS / ArchINSTALLBUILDCHECKBUILD BIN
apeglm 1.16.0  (landing page)
Anqi Zhu
git_last_commit: 0d599df
git_last_commit_date: 2021-10-26 12:37:46 -0500
nebbiolo2Linux (Ubuntu 20.04.3 LTS) / x86_64  OK    OK    OK  UNNEEDED, same version is already published
tokay2Windows Server 2012 R2 Standard / x64  OK    OK    OK    OK  UNNEEDED, same version is already published
machv2macOS 10.14.6 Mojave / x86_64  OK    OK    OK    OK  UNNEEDED, same version is already published
Package 14/493HostnameOS / ArchINSTALLBUILDCHECKBUILD BIN
appreci8R 1.12.0  (landing page)
Sarah Sandmann
git_last_commit: a9fde70
git_last_commit_date: 2021-10-26 12:45:40 -0500
nebbiolo2Linux (Ubuntu 20.04.3 LTS) / x86_64  OK    OK    OK  UNNEEDED, same version is already published
tokay2Windows Server 2012 R2 Standard / x64  OK    OK    OK    OK  UNNEEDED, same version is already published
machv2macOS 10.14.6 Mojave / x86_64  OK    OK    OK    OK  UNNEEDED, same version is already published
Package 15/493HostnameOS / ArchINSTALLBUILDCHECKBUILD BIN
ArrayExpressHTS 1.44.0  (landing page)
Angela Goncalves , Andrew Tikhonov
git_last_commit: bb650ce
git_last_commit_date: 2021-10-26 11:59:09 -0500
nebbiolo2Linux (Ubuntu 20.04.3 LTS) / x86_64  OK    OK    WARNINGS  UNNEEDED, same version is already published
tokay2Windows Server 2012 R2 Standard / x64... NOT SUPPORTED ...
machv2macOS 10.14.6 Mojave / x86_64  OK    OK    OK    OK  UNNEEDED, same version is already published
Package 16/493HostnameOS / ArchINSTALLBUILDCHECKBUILD BIN
ASpediaFI 1.8.0  (landing page)
Doyeong Yu
git_last_commit: 4066ac0
git_last_commit_date: 2021-10-26 12:55:23 -0500
nebbiolo2Linux (Ubuntu 20.04.3 LTS) / x86_64  OK    OK    OK  UNNEEDED, same version is already published
tokay2Windows Server 2012 R2 Standard / x64  OK    OK    OK    OK  UNNEEDED, same version is already published
machv2macOS 10.14.6 Mojave / x86_64  OK    OK    OK    OK  UNNEEDED, same version is already published
Package 17/493HostnameOS / ArchINSTALLBUILDCHECKBUILD BIN
ASpli 2.4.0  (landing page)
Estefania Mancini
git_last_commit: 9dad6f1
git_last_commit_date: 2021-10-26 12:29:18 -0500
nebbiolo2Linux (Ubuntu 20.04.3 LTS) / x86_64  OK    OK    OK  UNNEEDED, same version is already published
tokay2Windows Server 2012 R2 Standard / x64  OK    OK    OK    OK  UNNEEDED, same version is already published
machv2macOS 10.14.6 Mojave / x86_64  OK    OK    OK    OK  UNNEEDED, same version is already published
Package 18/493HostnameOS / ArchINSTALLBUILDCHECKBUILD BIN
AssessORF 1.12.0  (landing page)
Deepank Korandla
git_last_commit: 25d63b8
git_last_commit_date: 2021-10-26 12:47:55 -0500
nebbiolo2Linux (Ubuntu 20.04.3 LTS) / x86_64  OK    OK    OK  UNNEEDED, same version is already published
tokay2Windows Server 2012 R2 Standard / x64  OK    OK    OK    OK  UNNEEDED, same version is already published
machv2macOS 10.14.6 Mojave / x86_64  OK    OK    OK    OK  UNNEEDED, same version is already published
Package 19/493HostnameOS / ArchINSTALLBUILDCHECKBUILD BIN
ATACseqQC 1.18.0  (landing page)
Jianhong Ou
git_last_commit: eeaad0d
git_last_commit_date: 2021-10-26 12:35:11 -0500
nebbiolo2Linux (Ubuntu 20.04.3 LTS) / x86_64  OK    OK    OK  UNNEEDED, same version is already published
tokay2Windows Server 2012 R2 Standard / x64  OK    OK    OK    OK  UNNEEDED, same version is already published
machv2macOS 10.14.6 Mojave / x86_64  OK    OK    OK    OK  UNNEEDED, same version is already published
Package 20/493HostnameOS / ArchINSTALLBUILDCHECKBUILD BIN
atena 1.0.1  (landing page)
Beatriz Calvo-Serra
git_last_commit: 5bc457c
git_last_commit_date: 2021-11-05 07:41:58 -0500
nebbiolo2Linux (Ubuntu 20.04.3 LTS) / x86_64  OK    OK    OK  UNNEEDED, same version is already published
tokay2Windows Server 2012 R2 Standard / x64  OK    OK    OK    OK  UNNEEDED, same version is already published
machv2macOS 10.14.6 Mojave / x86_64  OK    OK    OK    OK  UNNEEDED, same version is already published
Package 21/493HostnameOS / ArchINSTALLBUILDCHECKBUILD BIN
BaalChIP 1.20.0  (landing page)
Ines de Santiago
git_last_commit: cd0f8f3
git_last_commit_date: 2021-10-26 12:30:00 -0500
nebbiolo2Linux (Ubuntu 20.04.3 LTS) / x86_64  OK    OK    WARNINGS  UNNEEDED, same version is already published
tokay2Windows Server 2012 R2 Standard / x64  OK    OK    WARNINGS    OK  UNNEEDED, same version is already published
machv2macOS 10.14.6 Mojave / x86_64  OK    OK    WARNINGS    OK  UNNEEDED, same version is already published
Package 22/493HostnameOS / ArchINSTALLBUILDCHECKBUILD BIN
BadRegionFinder 1.22.0  (landing page)
Sarah Sandmann
git_last_commit: e9d52d0
git_last_commit_date: 2021-10-26 12:26:51 -0500
nebbiolo2Linux (Ubuntu 20.04.3 LTS) / x86_64  OK    OK    OK  UNNEEDED, same version is already published
tokay2Windows Server 2012 R2 Standard / x64  OK    OK    OK    OK  UNNEEDED, same version is already published
machv2macOS 10.14.6 Mojave / x86_64  OK    OK    OK    OK  UNNEEDED, same version is already published
Package 23/493HostnameOS / ArchINSTALLBUILDCHECKBUILD BIN
ballgown 2.26.0  (landing page)
Jack Fu
git_last_commit: 4f1dda8
git_last_commit_date: 2021-10-26 12:14:54 -0500
nebbiolo2Linux (Ubuntu 20.04.3 LTS) / x86_64  OK    OK    OK  UNNEEDED, same version is already published
tokay2Windows Server 2012 R2 Standard / x64  OK    OK    OK    OK  UNNEEDED, same version is already published
machv2macOS 10.14.6 Mojave / x86_64  OK    OK    OK    OK  UNNEEDED, same version is already published
Package 24/493HostnameOS / ArchINSTALLBUILDCHECKBUILD BIN
bambu 2.0.1  (landing page)
Ying Chen
git_last_commit: 16a6d66
git_last_commit_date: 2021-11-22 21:16:11 -0500
nebbiolo2Linux (Ubuntu 20.04.3 LTS) / x86_64  OK    OK    OK  YES
tokay2Windows Server 2012 R2 Standard / x64  OK    OK    OK    OK  YES
machv2macOS 10.14.6 Mojave / x86_64  OK    OK    OK    OK  YES
Package 25/493HostnameOS / ArchINSTALLBUILDCHECKBUILD BIN
bamsignals 1.26.0  (landing page)
Johannes Helmuth
git_last_commit: d576434
git_last_commit_date: 2021-10-26 12:19:18 -0500
nebbiolo2Linux (Ubuntu 20.04.3 LTS) / x86_64  OK    OK    OK  UNNEEDED, same version is already published
tokay2Windows Server 2012 R2 Standard / x64  OK    OK    OK    OK  UNNEEDED, same version is already published
machv2macOS 10.14.6 Mojave / x86_64  OK    OK    OK    OK  UNNEEDED, same version is already published
Package 26/493HostnameOS / ArchINSTALLBUILDCHECKBUILD BIN
Basic4Cseq 1.30.0  (landing page)
Carolin Walter
git_last_commit: feb01cf
git_last_commit_date: 2021-10-26 12:12:12 -0500
nebbiolo2Linux (Ubuntu 20.04.3 LTS) / x86_64  OK    OK    OK  UNNEEDED, same version is already published
tokay2Windows Server 2012 R2 Standard / x64  OK    OK    OK    OK  UNNEEDED, same version is already published
machv2macOS 10.14.6 Mojave / x86_64  OK    OK    OK    OK  UNNEEDED, same version is already published
Package 27/493HostnameOS / ArchINSTALLBUILDCHECKBUILD BIN
BasicSTARRseq 1.22.0  (landing page)
Annika Buerger
git_last_commit: 8cdecc2
git_last_commit_date: 2021-10-26 12:25:08 -0500
nebbiolo2Linux (Ubuntu 20.04.3 LTS) / x86_64  OK    OK    OK  UNNEEDED, same version is already published
tokay2Windows Server 2012 R2 Standard / x64  OK    OK    OK    OK  UNNEEDED, same version is already published
machv2macOS 10.14.6 Mojave / x86_64  OK    OK    OK    OK  UNNEEDED, same version is already published
Package 28/493HostnameOS / ArchINSTALLBUILDCHECKBUILD BIN
baySeq 2.28.0  (landing page)
Thomas J. Hardcastle
git_last_commit: 6793f6e
git_last_commit_date: 2021-10-26 11:54:46 -0500
nebbiolo2Linux (Ubuntu 20.04.3 LTS) / x86_64  OK    OK    OK  UNNEEDED, same version is already published
tokay2Windows Server 2012 R2 Standard / x64  OK    OK    OK    OK  UNNEEDED, same version is already published
machv2macOS 10.14.6 Mojave / x86_64  OK    OK    OK    OK  UNNEEDED, same version is already published
Package 29/493HostnameOS / ArchINSTALLBUILDCHECKBUILD BIN
BBCAnalyzer 1.24.0  (landing page)
Sarah Sandmann
git_last_commit: 6516fc9
git_last_commit_date: 2021-10-26 12:22:06 -0500
nebbiolo2Linux (Ubuntu 20.04.3 LTS) / x86_64  OK    OK    OK  UNNEEDED, same version is already published
tokay2Windows Server 2012 R2 Standard / x64  OK    OK    WARNINGS    OK  UNNEEDED, same version is already published
machv2macOS 10.14.6 Mojave / x86_64  OK    OK    OK    OK  UNNEEDED, same version is already published
Package 30/493HostnameOS / ArchINSTALLBUILDCHECKBUILD BIN
beadarray 2.44.0  (landing page)
Mark Dunning
git_last_commit: c35a5ce
git_last_commit_date: 2021-10-26 11:49:14 -0500
nebbiolo2Linux (Ubuntu 20.04.3 LTS) / x86_64  OK    OK    OK  UNNEEDED, same version is already published
tokay2Windows Server 2012 R2 Standard / x64  OK    OK    OK    OK  UNNEEDED, same version is already published
machv2macOS 10.14.6 Mojave / x86_64  OK    OK    OK    OK  UNNEEDED, same version is already published
Package 31/493HostnameOS / ArchINSTALLBUILDCHECKBUILD BIN
BEAT 1.32.0  (landing page)
Kemal Akman
git_last_commit: 606284b
git_last_commit_date: 2021-10-26 12:11:31 -0500
nebbiolo2Linux (Ubuntu 20.04.3 LTS) / x86_64  OK    OK    OK  UNNEEDED, same version is already published
tokay2Windows Server 2012 R2 Standard / x64  OK    OK    OK    OK  UNNEEDED, same version is already published
machv2macOS 10.14.6 Mojave / x86_64  OK    OK    OK    OK  UNNEEDED, same version is already published
Package 32/493HostnameOS / ArchINSTALLBUILDCHECKBUILD BIN
BiFET 1.14.0  (landing page)
Ahrim Youn
git_last_commit: 13e7cc7
git_last_commit_date: 2021-10-26 12:40:59 -0500
nebbiolo2Linux (Ubuntu 20.04.3 LTS) / x86_64  OK    OK    OK  UNNEEDED, same version is already published
tokay2Windows Server 2012 R2 Standard / x64  OK    OK    OK    OK  UNNEEDED, same version is already published
machv2macOS 10.14.6 Mojave / x86_64  OK    OK    OK    OK  UNNEEDED, same version is already published
Package 33/493HostnameOS / ArchINSTALLBUILDCHECKBUILD BIN
BindingSiteFinder 1.0.0  (landing page)
Mirko Brüggemann
git_last_commit: be6256c
git_last_commit_date: 2021-10-26 13:11:23 -0500
nebbiolo2Linux (Ubuntu 20.04.3 LTS) / x86_64  OK    OK    OK  UNNEEDED, same version is already published
tokay2Windows Server 2012 R2 Standard / x64  OK    OK    OK    OK  UNNEEDED, same version is already published
machv2macOS 10.14.6 Mojave / x86_64  OK    OK    OK    OK  UNNEEDED, same version is already published
Package 34/493HostnameOS / ArchINSTALLBUILDCHECKBUILD BIN
BiocOncoTK 1.14.0  (landing page)
VJ Carey
git_last_commit: e958795
git_last_commit_date: 2021-10-26 12:44:33 -0500
nebbiolo2Linux (Ubuntu 20.04.3 LTS) / x86_64  OK    OK    OK  UNNEEDED, same version is already published
tokay2Windows Server 2012 R2 Standard / x64  OK    OK    OK    OK  UNNEEDED, same version is already published
machv2macOS 10.14.6 Mojave / x86_64  OK    OK    OK    OK  UNNEEDED, same version is already published
Package 35/493HostnameOS / ArchINSTALLBUILDCHECKBUILD BIN
biomvRCNS 1.34.0  (landing page)
Yang Du
git_last_commit: ce77ae7
git_last_commit_date: 2021-10-26 12:06:49 -0500
nebbiolo2Linux (Ubuntu 20.04.3 LTS) / x86_64  OK    OK    OK  UNNEEDED, same version is already published
tokay2Windows Server 2012 R2 Standard / x64  OK    OK    OK    OK  UNNEEDED, same version is already published
machv2macOS 10.14.6 Mojave / x86_64  OK    OK    OK    OK  UNNEEDED, same version is already published
Package 36/493HostnameOS / ArchINSTALLBUILDCHECKBUILD BIN
BioTIP 1.8.0  (landing page)
Yuxi (Jennifer) Sun , Zhezhen Wang , and X Holly Yang
git_last_commit: b7c8488
git_last_commit_date: 2021-10-26 12:54:40 -0500
nebbiolo2Linux (Ubuntu 20.04.3 LTS) / x86_64  OK    OK    WARNINGS  UNNEEDED, same version is already published
tokay2Windows Server 2012 R2 Standard / x64  OK    OK    WARNINGS    OK  UNNEEDED, same version is already published
machv2macOS 10.14.6 Mojave / x86_64  OK    OK    WARNINGS    OK  UNNEEDED, same version is already published
Package 37/493HostnameOS / ArchINSTALLBUILDCHECKBUILD BIN
biovizBase 1.42.0  (landing page)
Michael Lawrence
git_last_commit: f1627b2
git_last_commit_date: 2021-10-26 12:00:34 -0500
nebbiolo2Linux (Ubuntu 20.04.3 LTS) / x86_64  OK    OK    WARNINGS  UNNEEDED, same version is already published
tokay2Windows Server 2012 R2 Standard / x64  OK    OK    WARNINGS    OK  UNNEEDED, same version is already published
machv2macOS 10.14.6 Mojave / x86_64  OK    OK    WARNINGS    OK  UNNEEDED, same version is already published
Package 38/493HostnameOS / ArchINSTALLBUILDCHECKBUILD BIN
biscuiteer 1.8.0  (landing page)
"Jacob Morrison"
git_last_commit: 2a5989a
git_last_commit_date: 2021-10-26 12:55:31 -0500
nebbiolo2Linux (Ubuntu 20.04.3 LTS) / x86_64  OK    OK    WARNINGS  UNNEEDED, same version is already published
tokay2Windows Server 2012 R2 Standard / x64  OK    OK    WARNINGS    OK  UNNEEDED, same version is already published
machv2macOS 10.14.6 Mojave / x86_64  OK    OK    WARNINGS    OK  UNNEEDED, same version is already published
Package 39/493HostnameOS / ArchINSTALLBUILDCHECKBUILD BIN
BiSeq 1.34.0  (landing page)
Katja Hebestreit
git_last_commit: 5d4449a
git_last_commit_date: 2021-10-26 12:07:58 -0500
nebbiolo2Linux (Ubuntu 20.04.3 LTS) / x86_64  OK    OK    OK  UNNEEDED, same version is already published
tokay2Windows Server 2012 R2 Standard / x64  OK    OK    OK    OK  UNNEEDED, same version is already published
machv2macOS 10.14.6 Mojave / x86_64  OK    OK    OK    OK  UNNEEDED, same version is already published
Package 40/493HostnameOS / ArchINSTALLBUILDCHECKBUILD BIN
bnbc 1.16.0  (landing page)
Kipper Fletez-Brant
git_last_commit: 26377da
git_last_commit_date: 2021-10-26 12:39:02 -0500
nebbiolo2Linux (Ubuntu 20.04.3 LTS) / x86_64  OK    OK    OK  UNNEEDED, same version is already published
tokay2Windows Server 2012 R2 Standard / x64  OK    OK    OK    OK  UNNEEDED, same version is already published
machv2macOS 10.14.6 Mojave / x86_64  OK    OK    OK    OK  UNNEEDED, same version is already published
Package 41/493HostnameOS / ArchINSTALLBUILDCHECKBUILD BIN
BPRMeth 1.20.0  (landing page)
Chantriolnt-Andreas Kapourani
git_last_commit: 0135f88
git_last_commit_date: 2021-10-26 12:31:31 -0500
nebbiolo2Linux (Ubuntu 20.04.3 LTS) / x86_64  OK    OK    OK  UNNEEDED, same version is already published
tokay2Windows Server 2012 R2 Standard / x64  OK    OK    OK    OK  UNNEEDED, same version is already published
machv2macOS 10.14.6 Mojave / x86_64  OK    OK    OK    OK  UNNEEDED, same version is already published
Package 42/493HostnameOS / ArchINSTALLBUILDCHECKBUILD BIN
brainflowprobes 1.8.0  (landing page)
Amanda Price
git_last_commit: eb34416
git_last_commit_date: 2021-10-26 12:56:00 -0500
nebbiolo2Linux (Ubuntu 20.04.3 LTS) / x86_64  OK    OK    OK  UNNEEDED, same version is already published
tokay2Windows Server 2012 R2 Standard / x64  OK    OK    OK    OK  UNNEEDED, same version is already published
machv2macOS 10.14.6 Mojave / x86_64  OK    OK    OK    OK  UNNEEDED, same version is already published
Package 43/493HostnameOS / ArchINSTALLBUILDCHECKBUILD BIN
branchpointer 1.20.0  (landing page)
Beth Signal
git_last_commit: 09d2e40
git_last_commit_date: 2021-10-26 12:33:49 -0500
nebbiolo2Linux (Ubuntu 20.04.3 LTS) / x86_64  OK    OK    OK  UNNEEDED, same version is already published
tokay2Windows Server 2012 R2 Standard / x64  OK    OK    ERROR    OK  
machv2macOS 10.14.6 Mojave / x86_64  OK    OK    OK    OK  UNNEEDED, same version is already published
Package 44/493HostnameOS / ArchINSTALLBUILDCHECKBUILD BIN
breakpointR 1.12.0  (landing page)
David Porubsky
git_last_commit: 1624453
git_last_commit_date: 2021-10-26 12:46:54 -0500
nebbiolo2Linux (Ubuntu 20.04.3 LTS) / x86_64  OK    OK    OK  UNNEEDED, same version is already published
tokay2Windows Server 2012 R2 Standard / x64  OK    OK    OK    OK  UNNEEDED, same version is already published
machv2macOS 10.14.6 Mojave / x86_64  OK    OK    OK    OK  UNNEEDED, same version is already published
Package 45/493HostnameOS / ArchINSTALLBUILDCHECKBUILD BIN
BRGenomics 1.6.0  (landing page)
Mike DeBerardine
git_last_commit: ff5ff54
git_last_commit_date: 2021-10-26 12:58:20 -0500
nebbiolo2Linux (Ubuntu 20.04.3 LTS) / x86_64  OK    OK    WARNINGS  UNNEEDED, same version is already published
tokay2Windows Server 2012 R2 Standard / x64  OK    OK    WARNINGS    OK  UNNEEDED, same version is already published
machv2macOS 10.14.6 Mojave / x86_64  OK    OK    WARNINGS    OK  UNNEEDED, same version is already published
Package 46/493HostnameOS / ArchINSTALLBUILDCHECKBUILD BIN
BSgenome 1.62.0  (landing page)
H. Pagès
git_last_commit: 9b1859e
git_last_commit_date: 2021-10-26 11:49:47 -0500
nebbiolo2Linux (Ubuntu 20.04.3 LTS) / x86_64  OK    OK    WARNINGS  UNNEEDED, same version is already published
tokay2Windows Server 2012 R2 Standard / x64  OK    OK    WARNINGS    OK  UNNEEDED, same version is already published
machv2macOS 10.14.6 Mojave / x86_64  OK    OK    WARNINGS    OK  UNNEEDED, same version is already published
Package 47/493HostnameOS / ArchINSTALLBUILDCHECKBUILD BIN
bsseq 1.30.0  (landing page)
Kasper Daniel Hansen
git_last_commit: 7eb5223
git_last_commit_date: 2021-10-26 12:03:49 -0500
nebbiolo2Linux (Ubuntu 20.04.3 LTS) / x86_64  OK    OK    OK  UNNEEDED, same version is already published
tokay2Windows Server 2012 R2 Standard / x64  OK    OK    OK    OK  UNNEEDED, same version is already published
machv2macOS 10.14.6 Mojave / x86_64  OK    OK    OK    OK  UNNEEDED, same version is already published
Package 48/493HostnameOS / ArchINSTALLBUILDCHECKBUILD BIN
BubbleTree 2.24.0  (landing page)
Todd Creasy , Wei Zhu
git_last_commit: c74ad0d
git_last_commit_date: 2021-10-26 12:18:49 -0500
nebbiolo2Linux (Ubuntu 20.04.3 LTS) / x86_64  OK    OK    OK  UNNEEDED, same version is already published
tokay2Windows Server 2012 R2 Standard / x64  OK    OK    OK    OK  UNNEEDED, same version is already published
machv2macOS 10.14.6 Mojave / x86_64  OK    OK    OK    OK  UNNEEDED, same version is already published
Package 49/493HostnameOS / ArchINSTALLBUILDCHECKBUILD BIN
bumphunter 1.36.0  (landing page)
Tamilselvi Guharaj
git_last_commit: db50fcf
git_last_commit_date: 2021-10-27 13:17:03 -0500
nebbiolo2Linux (Ubuntu 20.04.3 LTS) / x86_64  OK    OK    OK  UNNEEDED, same version is already published
tokay2Windows Server 2012 R2 Standard / x64  OK    OK    OK    OK  UNNEEDED, same version is already published
machv2macOS 10.14.6 Mojave / x86_64  OK    OK    OK    OK  UNNEEDED, same version is already published
Package 50/493HostnameOS / ArchINSTALLBUILDCHECKBUILD BIN
BUSpaRse 1.8.0  (landing page)
Lambda Moses
git_last_commit: fa528cf
git_last_commit_date: 2021-10-26 12:53:45 -0500
nebbiolo2Linux (Ubuntu 20.04.3 LTS) / x86_64  OK    OK    OK  UNNEEDED, same version is already published
tokay2Windows Server 2012 R2 Standard / x64  OK    OK    OK    OK  UNNEEDED, same version is already published
machv2macOS 10.14.6 Mojave / x86_64  OK    OK    OK    OK  UNNEEDED, same version is already published
Package 51/493HostnameOS / ArchINSTALLBUILDCHECKBUILD BIN
CAFE 1.30.0  (landing page)
Sander Bollen
git_last_commit: 95b0e67
git_last_commit_date: 2021-10-26 12:12:15 -0500
nebbiolo2Linux (Ubuntu 20.04.3 LTS) / x86_64  OK    OK    WARNINGS  UNNEEDED, same version is already published
tokay2Windows Server 2012 R2 Standard / x64  OK    OK    WARNINGS    OK  UNNEEDED, same version is already published
machv2macOS 10.14.6 Mojave / x86_64  OK    OK    WARNINGS    OK  UNNEEDED, same version is already published
Package 52/493HostnameOS / ArchINSTALLBUILDCHECKBUILD BIN
CAGEfightR 1.14.0  (landing page)
Malte Thodberg
git_last_commit: 6c27321
git_last_commit_date: 2021-10-26 12:44:41 -0500
nebbiolo2Linux (Ubuntu 20.04.3 LTS) / x86_64  OK    OK    OK  UNNEEDED, same version is already published
tokay2Windows Server 2012 R2 Standard / x64  OK    OK    OK    OK  UNNEEDED, same version is already published
machv2macOS 10.14.6 Mojave / x86_64  OK    OK    OK    OK  UNNEEDED, same version is already published
Package 53/493HostnameOS / ArchINSTALLBUILDCHECKBUILD BIN
cageminer 1.0.0  (landing page)
Fabrício Almeida-Silva
git_last_commit: 32c8304
git_last_commit_date: 2021-10-26 13:11:20 -0500
nebbiolo2Linux (Ubuntu 20.04.3 LTS) / x86_64  OK    OK    OK  UNNEEDED, same version is already published
tokay2Windows Server 2012 R2 Standard / x64  OK    OK    OK    OK  UNNEEDED, same version is already published
machv2macOS 10.14.6 Mojave / x86_64  OK    OK    OK    OK  UNNEEDED, same version is already published
Package 54/493HostnameOS / ArchINSTALLBUILDCHECKBUILD BIN
CAGEr 2.0.2  (landing page)
Charles Plessy
git_last_commit: 9218aa9
git_last_commit_date: 2021-11-16 19:37:08 -0500
nebbiolo2Linux (Ubuntu 20.04.3 LTS) / x86_64  OK    OK    OK  UNNEEDED, same version is already published
tokay2Windows Server 2012 R2 Standard / x64  OK    OK    OK    OK  UNNEEDED, same version is already published
machv2macOS 10.14.6 Mojave / x86_64  OK    OK    OK    OK  UNNEEDED, same version is already published
Package 55/493HostnameOS / ArchINSTALLBUILDCHECKBUILD BIN
casper 2.28.0  (landing page)
David Rossell
git_last_commit: 479cb8d
git_last_commit_date: 2021-10-26 12:06:23 -0500
nebbiolo2Linux (Ubuntu 20.04.3 LTS) / x86_64  OK    OK    WARNINGS  UNNEEDED, same version is already published
tokay2Windows Server 2012 R2 Standard / x64  OK    OK    WARNINGS    OK  UNNEEDED, same version is already published
machv2macOS 10.14.6 Mojave / x86_64  OK    OK    WARNINGS    OK  UNNEEDED, same version is already published
Package 56/493HostnameOS / ArchINSTALLBUILDCHECKBUILD BIN
cBioPortalData 2.6.0  (landing page)
Marcel Ramos
git_last_commit: d8a1095
git_last_commit_date: 2021-10-26 12:59:53 -0500
nebbiolo2Linux (Ubuntu 20.04.3 LTS) / x86_64  OK    OK    WARNINGS  UNNEEDED, same version is already published
tokay2Windows Server 2012 R2 Standard / x64  OK    OK    WARNINGS    OK  UNNEEDED, same version is already published
machv2macOS 10.14.6 Mojave / x86_64  OK    OK    WARNINGS    OK  UNNEEDED, same version is already published
Package 57/493HostnameOS / ArchINSTALLBUILDCHECKBUILD BIN
CexoR 1.32.0  (landing page)
Pedro Madrigal
git_last_commit: 422af9e
git_last_commit_date: 2021-10-26 13:12:55 -0500
nebbiolo2Linux (Ubuntu 20.04.3 LTS) / x86_64  OK    OK    OK  UNNEEDED, same version is already published
tokay2Windows Server 2012 R2 Standard / x64  OK    OK    OK    OK  UNNEEDED, same version is already published
machv2macOS 10.14.6 Mojave / x86_64  OK    OK    OK    OK  UNNEEDED, same version is already published
Package 58/493HostnameOS / ArchINSTALLBUILDCHECKBUILD BIN
ChAMP 2.24.0  (landing page)
Yuan Tian
git_last_commit: 7ba19da
git_last_commit_date: 2021-10-26 12:10:42 -0500
nebbiolo2Linux (Ubuntu 20.04.3 LTS) / x86_64  OK    OK    WARNINGS  UNNEEDED, same version is already published
tokay2Windows Server 2012 R2 Standard / x64  OK    OK    WARNINGS    OK  NO, package depends on 'DMRcate' which is not available
machv2macOS 10.14.6 Mojave / x86_64  OK    OK    WARNINGS    OK  NO, package depends on 'DMRcate' which is not available
Package 59/493HostnameOS / ArchINSTALLBUILDCHECKBUILD BIN
ChIC 1.14.0  (landing page)
Carmen Maria Livi
git_last_commit: 14ce4c1
git_last_commit_date: 2021-10-26 12:43:56 -0500
nebbiolo2Linux (Ubuntu 20.04.3 LTS) / x86_64  OK    OK    OK  UNNEEDED, same version is already published
tokay2Windows Server 2012 R2 Standard / x64... NOT SUPPORTED ...
machv2macOS 10.14.6 Mojave / x86_64  OK    OK    OK    OK  UNNEEDED, same version is already published
Package 60/493HostnameOS / ArchINSTALLBUILDCHECKBUILD BIN
chimeraviz 1.20.0  (landing page)
Stian Lågstad
git_last_commit: 2e8573d
git_last_commit_date: 2021-10-26 12:31:52 -0500
nebbiolo2Linux (Ubuntu 20.04.3 LTS) / x86_64  OK    OK    OK  UNNEEDED, same version is already published
tokay2Windows Server 2012 R2 Standard / x64  OK    OK    OK    OK  UNNEEDED, same version is already published
machv2macOS 10.14.6 Mojave / x86_64  OK    OK    OK    OK  UNNEEDED, same version is already published
Package 61/493HostnameOS / ArchINSTALLBUILDCHECKBUILD BIN
ChIPanalyser 1.16.0  (landing page)
Patrick C.N. Martin
git_last_commit: b95956a
git_last_commit_date: 2021-10-26 12:37:43 -0500
nebbiolo2Linux (Ubuntu 20.04.3 LTS) / x86_64  OK    OK    OK  UNNEEDED, same version is already published
tokay2Windows Server 2012 R2 Standard / x64  OK    OK    OK    OK  UNNEEDED, same version is already published
machv2macOS 10.14.6 Mojave / x86_64  OK    OK    OK    OK  UNNEEDED, same version is already published
Package 62/493HostnameOS / ArchINSTALLBUILDCHECKBUILD BIN
ChIPComp 1.24.0  (landing page)
Li Chen
git_last_commit: 854d1b5
git_last_commit_date: 2021-10-26 12:22:08 -0500
nebbiolo2Linux (Ubuntu 20.04.3 LTS) / x86_64  OK    OK    OK  UNNEEDED, same version is already published
tokay2Windows Server 2012 R2 Standard / x64  OK    OK    OK    OK  UNNEEDED, same version is already published
machv2macOS 10.14.6 Mojave / x86_64  OK    OK    OK    OK  UNNEEDED, same version is already published
Package 63/493HostnameOS / ArchINSTALLBUILDCHECKBUILD BIN
chipenrich 2.18.0  (landing page)
Raymond G. Cavalcante
git_last_commit: 3af75df
git_last_commit_date: 2021-10-26 12:09:44 -0500
nebbiolo2Linux (Ubuntu 20.04.3 LTS) / x86_64  OK    OK    OK  UNNEEDED, same version is already published
tokay2Windows Server 2012 R2 Standard / x64  OK    OK    OK    OK  UNNEEDED, same version is already published
machv2macOS 10.14.6 Mojave / x86_64  OK    OK    OK    OK  UNNEEDED, same version is already published
Package 64/493HostnameOS / ArchINSTALLBUILDCHECKBUILD BIN
ChIPexoQual 1.18.0  (landing page)
Rene Welch
git_last_commit: 3746d89
git_last_commit_date: 2021-10-26 12:32:36 -0500
nebbiolo2Linux (Ubuntu 20.04.3 LTS) / x86_64  OK    OK    OK  UNNEEDED, same version is already published
tokay2Windows Server 2012 R2 Standard / x64  OK    OK    OK    OK  UNNEEDED, same version is already published
machv2macOS 10.14.6 Mojave / x86_64  OK    OK    OK    OK  UNNEEDED, same version is already published
Package 65/493HostnameOS / ArchINSTALLBUILDCHECKBUILD BIN
ChIPpeakAnno 3.28.0  (landing page)
Jianhong Ou
git_last_commit: da1bfa1
git_last_commit_date: 2021-10-26 11:54:17 -0500
nebbiolo2Linux (Ubuntu 20.04.3 LTS) / x86_64  OK    OK    OK  UNNEEDED, same version is already published
tokay2Windows Server 2012 R2 Standard / x64  OK    OK    OK    OK  UNNEEDED, same version is already published
machv2macOS 10.14.6 Mojave / x86_64  OK    OK    OK    OK  UNNEEDED, same version is already published
Package 66/493HostnameOS / ArchINSTALLBUILDCHECKBUILD BIN
ChIPQC 1.30.0  (landing page)
Tom Carroll , Rory Stark
git_last_commit: 566bb1a
git_last_commit_date: 2021-10-26 12:12:48 -0500
nebbiolo2Linux (Ubuntu 20.04.3 LTS) / x86_64  OK    OK    WARNINGS  UNNEEDED, same version is already published
tokay2Windows Server 2012 R2 Standard / x64  OK    OK    WARNINGS    OK  UNNEEDED, same version is already published
machv2macOS 10.14.6 Mojave / x86_64  OK    OK    WARNINGS    OK  UNNEEDED, same version is already published
Package 67/493HostnameOS / ArchINSTALLBUILDCHECKBUILD BIN
ChIPseeker 1.30.2  (landing page)
Guangchuang Yu
git_last_commit: 80e3fca
git_last_commit_date: 2021-11-10 03:53:57 -0500
nebbiolo2Linux (Ubuntu 20.04.3 LTS) / x86_64  OK    OK    OK  UNNEEDED, same version is already published
tokay2Windows Server 2012 R2 Standard / x64  OK    OK    OK    OK  UNNEEDED, same version is already published
machv2macOS 10.14.6 Mojave / x86_64  OK    OK    OK    OK  UNNEEDED, same version is already published
Package 68/493HostnameOS / ArchINSTALLBUILDCHECKBUILD BIN
chipseq 1.44.0  (landing page)
Bioconductor Package Maintainer
git_last_commit: b64d0d2
git_last_commit_date: 2021-10-26 11:54:04 -0500
nebbiolo2Linux (Ubuntu 20.04.3 LTS) / x86_64  OK    OK    WARNINGS  UNNEEDED, same version is already published
tokay2Windows Server 2012 R2 Standard / x64  OK    OK    WARNINGS    OK  UNNEEDED, same version is already published
machv2macOS 10.14.6 Mojave / x86_64  OK    OK    WARNINGS    OK  UNNEEDED, same version is already published
Package 69/493HostnameOS / ArchINSTALLBUILDCHECKBUILD BIN
ChIPseqR 1.48.0  (landing page)
Peter Humburg
git_last_commit: c68564e
git_last_commit_date: 2021-10-26 11:54:55 -0500
nebbiolo2Linux (Ubuntu 20.04.3 LTS) / x86_64  OK    OK    OK  UNNEEDED, same version is already published
tokay2Windows Server 2012 R2 Standard / x64  OK    OK    OK    OK  UNNEEDED, same version is already published
machv2macOS 10.14.6 Mojave / x86_64  OK    OK    OK    OK  UNNEEDED, same version is already published
Package 70/493HostnameOS / ArchINSTALLBUILDCHECKBUILD BIN
chromDraw 2.24.0  (landing page)
Jan Janecka
git_last_commit: 48ae15b
git_last_commit_date: 2021-10-26 12:18:12 -0500
nebbiolo2Linux (Ubuntu 20.04.3 LTS) / x86_64  OK    OK    WARNINGS  UNNEEDED, same version is already published
tokay2Windows Server 2012 R2 Standard / x64  OK    OK    WARNINGS    OK  UNNEEDED, same version is already published
machv2macOS 10.14.6 Mojave / x86_64  OK    OK    WARNINGS    OK  UNNEEDED, same version is already published
Package 71/493HostnameOS / ArchINSTALLBUILDCHECKBUILD BIN
ChromHeatMap 1.48.0  (landing page)
Tim F. Rayner
git_last_commit: 488d509
git_last_commit_date: 2021-10-26 11:54:52 -0500
nebbiolo2Linux (Ubuntu 20.04.3 LTS) / x86_64  OK    OK    OK  UNNEEDED, same version is already published
tokay2Windows Server 2012 R2 Standard / x64  OK    OK    OK    OK  UNNEEDED, same version is already published
machv2macOS 10.14.6 Mojave / x86_64  OK    OK    OK    OK  UNNEEDED, same version is already published
Package 72/493HostnameOS / ArchINSTALLBUILDCHECKBUILD BIN
chromPlot 1.22.0  (landing page)
Karen Y. Orostica
git_last_commit: 3a9a688
git_last_commit_date: 2021-10-26 12:25:40 -0500
nebbiolo2Linux (Ubuntu 20.04.3 LTS) / x86_64  OK    OK    OK  UNNEEDED, same version is already published
tokay2Windows Server 2012 R2 Standard / x64  OK    OK    WARNINGS    OK  UNNEEDED, same version is already published
machv2macOS 10.14.6 Mojave / x86_64  OK    OK    OK    OK  UNNEEDED, same version is already published
Package 73/493HostnameOS / ArchINSTALLBUILDCHECKBUILD BIN
ChromSCape 1.4.0  (landing page)
Pacome Prompsy
git_last_commit: df9f2c5
git_last_commit_date: 2021-10-26 13:03:23 -0500
nebbiolo2Linux (Ubuntu 20.04.3 LTS) / x86_64  OK    OK    OK  UNNEEDED, same version is already published
tokay2Windows Server 2012 R2 Standard / x64  OK    OK    OK    OK  UNNEEDED, same version is already published
machv2macOS 10.14.6 Mojave / x86_64  OK    OK    OK    OK  UNNEEDED, same version is already published
Package 74/493HostnameOS / ArchINSTALLBUILDCHECKBUILD BIN
chromstaR 1.20.2  (landing page)
Aaron Taudt
git_last_commit: b8ef93b
git_last_commit_date: 2021-11-03 04:34:25 -0500
nebbiolo2Linux (Ubuntu 20.04.3 LTS) / x86_64  OK    ERROR  skipped
tokay2Windows Server 2012 R2 Standard / x64  OK    OK    OK    OK  UNNEEDED, same version is already published
machv2macOS 10.14.6 Mojave / x86_64  OK    OK    OK    OK  UNNEEDED, same version is already published
Package 75/493HostnameOS / ArchINSTALLBUILDCHECKBUILD BIN
chromswitch 1.16.0  (landing page)
Selin Jessa
git_last_commit: 0d65abe
git_last_commit_date: 2021-10-26 12:39:46 -0500
nebbiolo2Linux (Ubuntu 20.04.3 LTS) / x86_64  OK    OK    OK  UNNEEDED, same version is already published
tokay2Windows Server 2012 R2 Standard / x64  OK    OK    OK    OK  UNNEEDED, same version is already published
machv2macOS 10.14.6 Mojave / x86_64  OK    OK    OK    OK  UNNEEDED, same version is already published
Package 76/493HostnameOS / ArchINSTALLBUILDCHECKBUILD BIN
chromVAR 1.16.0  (landing page)
Alicia Schep
git_last_commit: f4109be
git_last_commit_date: 2021-10-26 12:38:42 -0500
nebbiolo2Linux (Ubuntu 20.04.3 LTS) / x86_64  OK    OK    OK  UNNEEDED, same version is already published
tokay2Windows Server 2012 R2 Standard / x64  OK    OK    OK    OK  UNNEEDED, same version is already published
machv2macOS 10.14.6 Mojave / x86_64  OK    OK    OK    OK  UNNEEDED, same version is already published
Package 77/493HostnameOS / ArchINSTALLBUILDCHECKBUILD BIN
cicero 1.12.0  (landing page)
Hannah Pliner
git_last_commit: 1991cbd
git_last_commit_date: 2021-10-26 12:47:09 -0500
nebbiolo2Linux (Ubuntu 20.04.3 LTS) / x86_64  OK    OK    OK  UNNEEDED, same version is already published
tokay2Windows Server 2012 R2 Standard / x64  OK    OK    OK    OK  UNNEEDED, same version is already published
machv2macOS 10.14.6 Mojave / x86_64  OK    OK    OK    OK  UNNEEDED, same version is already published
Package 78/493HostnameOS / ArchINSTALLBUILDCHECKBUILD BIN
CINdex 1.22.0  (landing page)
Yuriy Gusev
git_last_commit: c6af6ad
git_last_commit_date: 2021-10-26 12:26:47 -0500
nebbiolo2Linux (Ubuntu 20.04.3 LTS) / x86_64  OK    OK    WARNINGS  UNNEEDED, same version is already published
tokay2Windows Server 2012 R2 Standard / x64  OK    OK    WARNINGS    OK  UNNEEDED, same version is already published
machv2macOS 10.14.6 Mojave / x86_64  OK    OK    WARNINGS    OK  UNNEEDED, same version is already published
Package 79/493HostnameOS / ArchINSTALLBUILDCHECKBUILD BIN
circRNAprofiler 1.8.0  (landing page)
Simona Aufiero
git_last_commit: 92fcc06
git_last_commit_date: 2021-10-26 12:53:01 -0500
nebbiolo2Linux (Ubuntu 20.04.3 LTS) / x86_64  OK    OK    OK  UNNEEDED, same version is already published
tokay2Windows Server 2012 R2 Standard / x64  OK    OK    OK    OK  UNNEEDED, same version is already published
machv2macOS 10.14.6 Mojave / x86_64  OK    OK    OK    OK  UNNEEDED, same version is already published
Package 80/493HostnameOS / ArchINSTALLBUILDCHECKBUILD BIN
cleanUpdTSeq 1.32.0  (landing page)
Jianhong Ou ; Lihua Julie Zhu
git_last_commit: 4298e78
git_last_commit_date: 2021-10-26 12:08:46 -0500
nebbiolo2Linux (Ubuntu 20.04.3 LTS) / x86_64  OK    OK    OK  UNNEEDED, same version is already published
tokay2Windows Server 2012 R2 Standard / x64  OK    OK    OK    OK  UNNEEDED, same version is already published
machv2macOS 10.14.6 Mojave / x86_64  OK    OK    OK    OK  UNNEEDED, same version is already published
Package 81/493HostnameOS / ArchINSTALLBUILDCHECKBUILD BIN
cliProfiler 1.0.0  (landing page)
You Zhou
git_last_commit: f3e8322
git_last_commit_date: 2021-10-26 13:13:16 -0500
nebbiolo2Linux (Ubuntu 20.04.3 LTS) / x86_64  OK    OK    OK  UNNEEDED, same version is already published
tokay2Windows Server 2012 R2 Standard / x64  OK    OK    OK    OK  UNNEEDED, same version is already published
machv2macOS 10.14.6 Mojave / x86_64  OK    OK    OK    OK  UNNEEDED, same version is already published
Package 82/493HostnameOS / ArchINSTALLBUILDCHECKBUILD BIN
cn.mops 1.40.0  (landing page)
Gundula Povysil
git_last_commit: 498dbf7
git_last_commit_date: 2021-10-26 12:01:20 -0500
nebbiolo2Linux (Ubuntu 20.04.3 LTS) / x86_64  OK    OK    OK  UNNEEDED, same version is already published
tokay2Windows Server 2012 R2 Standard / x64  OK    OK    OK    OK  UNNEEDED, same version is already published
machv2macOS 10.14.6 Mojave / x86_64  OK    OK    OK    OK  UNNEEDED, same version is already published
Package 83/493HostnameOS / ArchINSTALLBUILDCHECKBUILD BIN
CNEr 1.30.0  (landing page)
Ge Tan
git_last_commit: e682f2a
git_last_commit_date: 2021-10-26 12:11:47 -0500
nebbiolo2Linux (Ubuntu 20.04.3 LTS) / x86_64  OK    OK    OK  UNNEEDED, same version is already published
tokay2Windows Server 2012 R2 Standard / x64  OK    OK    WARNINGS    OK  UNNEEDED, same version is already published
machv2macOS 10.14.6 Mojave / x86_64  OK    OK    WARNINGS    OK  UNNEEDED, same version is already published
Package 84/493HostnameOS / ArchINSTALLBUILDCHECKBUILD BIN
CNVfilteR 1.8.0  (landing page)
Jose Marcos Moreno-Cabrera
git_last_commit: f09ee78
git_last_commit_date: 2021-10-26 12:54:56 -0500
nebbiolo2Linux (Ubuntu 20.04.3 LTS) / x86_64  OK    OK    OK  UNNEEDED, same version is already published
tokay2Windows Server 2012 R2 Standard / x64  OK    OK    OK    OK  UNNEEDED, same version is already published
machv2macOS 10.14.6 Mojave / x86_64  OK    OK    OK    OK  UNNEEDED, same version is already published
Package 85/493HostnameOS / ArchINSTALLBUILDCHECKBUILD BIN
cnvGSA 1.38.0  (landing page)
Joseph Lugo
git_last_commit: 3678199
git_last_commit_date: 2021-10-26 12:02:49 -0500
nebbiolo2Linux (Ubuntu 20.04.3 LTS) / x86_64  OK    OK    OK  UNNEEDED, same version is already published
tokay2Windows Server 2012 R2 Standard / x64  OK    OK    OK    OK  UNNEEDED, same version is already published
machv2macOS 10.14.6 Mojave / x86_64  OK    OK    OK    OK  UNNEEDED, same version is already published
Package 86/493HostnameOS / ArchINSTALLBUILDCHECKBUILD BIN
CNViz 1.2.0  (landing page)
Rebecca Greenblatt
git_last_commit: e13c459
git_last_commit_date: 2021-10-26 13:08:39 -0500
nebbiolo2Linux (Ubuntu 20.04.3 LTS) / x86_64  OK    OK    OK  UNNEEDED, same version is already published
tokay2Windows Server 2012 R2 Standard / x64  OK    OK    OK    OK  UNNEEDED, same version is already published
machv2macOS 10.14.6 Mojave / x86_64  OK    OK    OK    OK  UNNEEDED, same version is already published
Package 87/493HostnameOS / ArchINSTALLBUILDCHECKBUILD BIN
CNVPanelizer 1.26.0  (landing page)
Thomas Wolf
git_last_commit: 29442f8
git_last_commit_date: 2021-10-26 12:21:16 -0500
nebbiolo2Linux (Ubuntu 20.04.3 LTS) / x86_64  OK    OK    OK  UNNEEDED, same version is already published
tokay2Windows Server 2012 R2 Standard / x64  OK    OK    OK    OK  UNNEEDED, same version is already published
machv2macOS 10.14.6 Mojave / x86_64  OK    OK    OK    OK  UNNEEDED, same version is already published
Package 88/493HostnameOS / ArchINSTALLBUILDCHECKBUILD BIN
CNVRanger 1.10.0  (landing page)
Ludwig Geistlinger
git_last_commit: 0432434
git_last_commit_date: 2021-10-26 12:49:21 -0500
nebbiolo2Linux (Ubuntu 20.04.3 LTS) / x86_64  OK    OK    OK  UNNEEDED, same version is already published
tokay2Windows Server 2012 R2 Standard / x64  OK    OK    OK    OK  NO, package depends on 'GDSArray' which is not available
machv2macOS 10.14.6 Mojave / x86_64  OK    OK    OK    OK  UNNEEDED, same version is already published
Package 89/493HostnameOS / ArchINSTALLBUILDCHECKBUILD BIN
COCOA 2.8.0  (landing page)
John Lawson
git_last_commit: 30a31c3
git_last_commit_date: 2021-10-26 12:47:47 -0500
nebbiolo2Linux (Ubuntu 20.04.3 LTS) / x86_64  OK    OK    OK  UNNEEDED, same version is already published
tokay2Windows Server 2012 R2 Standard / x64  OK    OK    OK    OK  UNNEEDED, same version is already published
machv2macOS 10.14.6 Mojave / x86_64  OK    OK    OK    OK  UNNEEDED, same version is already published
Package 90/493HostnameOS / ArchINSTALLBUILDCHECKBUILD BIN
Cogito 1.0.0  (landing page)
Annika Bürger
git_last_commit: 3eb15c7
git_last_commit_date: 2021-10-26 13:13:23 -0500
nebbiolo2Linux (Ubuntu 20.04.3 LTS) / x86_64  OK    OK    OK  UNNEEDED, same version is already published
tokay2Windows Server 2012 R2 Standard / x64  OK    OK    OK    OK  UNNEEDED, same version is already published
machv2macOS 10.14.6 Mojave / x86_64  OK    OK    OK    OK  UNNEEDED, same version is already published
Package 91/493HostnameOS / ArchINSTALLBUILDCHECKBUILD BIN
coMET 1.26.0  (landing page)
Tiphaine Martin
git_last_commit: ed4f33f
git_last_commit_date: 2021-10-26 12:18:16 -0500
nebbiolo2Linux (Ubuntu 20.04.3 LTS) / x86_64  OK    OK    OK  UNNEEDED, same version is already published
tokay2Windows Server 2012 R2 Standard / x64  OK    OK    OK    OK  UNNEEDED, same version is already published
machv2macOS 10.14.6 Mojave / x86_64  OK    OK    OK    OK  UNNEEDED, same version is already published
Package 92/493HostnameOS / ArchINSTALLBUILDCHECKBUILD BIN
compartmap 1.12.0  (landing page)
Benjamin Johnson
git_last_commit: 3fce1b6
git_last_commit_date: 2021-10-26 12:48:10 -0500
nebbiolo2Linux (Ubuntu 20.04.3 LTS) / x86_64  OK    OK    OK  UNNEEDED, same version is already published
tokay2Windows Server 2012 R2 Standard / x64  OK    OK    OK    OK  UNNEEDED, same version is already published
machv2macOS 10.14.6 Mojave / x86_64  OK    OK    OK    OK  UNNEEDED, same version is already published
Package 93/493HostnameOS / ArchINSTALLBUILDCHECKBUILD BIN
compEpiTools 1.28.0  (landing page)
Kamal Kishore
git_last_commit: 7f99015
git_last_commit_date: 2021-10-26 12:15:25 -0500
nebbiolo2Linux (Ubuntu 20.04.3 LTS) / x86_64  OK    OK    ERROR  
tokay2Windows Server 2012 R2 Standard / x64  OK    OK    ERROR    OK  
machv2macOS 10.14.6 Mojave / x86_64  OK    OK    ERROR    OK  
Package 94/493HostnameOS / ArchINSTALLBUILDCHECKBUILD BIN
consensusSeekeR 1.22.0  (landing page)
Astrid Deschenes
git_last_commit: d88164a
git_last_commit_date: 2021-10-26 12:23:47 -0500
nebbiolo2Linux (Ubuntu 20.04.3 LTS) / x86_64  OK    OK    OK  UNNEEDED, same version is already published
tokay2Windows Server 2012 R2 Standard / x64  OK    OK    OK    OK  UNNEEDED, same version is already published
machv2macOS 10.14.6 Mojave / x86_64  OK    OK    OK    OK  UNNEEDED, same version is already published
Package 95/493HostnameOS / ArchINSTALLBUILDCHECKBUILD BIN
contiBAIT 1.22.0  (landing page)
Kieran O'Neill
git_last_commit: 7642d19
git_last_commit_date: 2021-10-26 12:25:24 -0500
nebbiolo2Linux (Ubuntu 20.04.3 LTS) / x86_64  OK    OK    WARNINGS  UNNEEDED, same version is already published
tokay2Windows Server 2012 R2 Standard / x64  OK    OK    WARNINGS    OK  UNNEEDED, same version is already published
machv2macOS 10.14.6 Mojave / x86_64  OK    OK    WARNINGS    OK  UNNEEDED, same version is already published
Package 96/493HostnameOS / ArchINSTALLBUILDCHECKBUILD BIN
conumee 1.28.0  (landing page)
Volker Hovestadt
git_last_commit: 49326cb
git_last_commit_date: 2021-10-26 12:20:09 -0500
nebbiolo2Linux (Ubuntu 20.04.3 LTS) / x86_64  OK    OK    OK  UNNEEDED, same version is already published
tokay2Windows Server 2012 R2 Standard / x64... NOT SUPPORTED ...
machv2macOS 10.14.6 Mojave / x86_64  OK    OK    OK    OK  UNNEEDED, same version is already published
Package 97/493HostnameOS / ArchINSTALLBUILDCHECKBUILD BIN
copynumber 1.34.0  (landing page)
Gro Nilsen
git_last_commit: 958e926
git_last_commit_date: 2021-10-26 12:07:45 -0500
nebbiolo2Linux (Ubuntu 20.04.3 LTS) / x86_64  OK    OK    OK  UNNEEDED, same version is already published
tokay2Windows Server 2012 R2 Standard / x64  OK    OK    OK    OK  UNNEEDED, same version is already published
machv2macOS 10.14.6 Mojave / x86_64  OK    OK    OK    OK  UNNEEDED, same version is already published
Package 98/493HostnameOS / ArchINSTALLBUILDCHECKBUILD BIN
CopyNumberPlots 1.10.0  (landing page)
Bernat Gel
git_last_commit: 4ab61ef
git_last_commit_date: 2021-10-26 12:51:20 -0500
nebbiolo2Linux (Ubuntu 20.04.3 LTS) / x86_64  OK    OK    OK  UNNEEDED, same version is already published
tokay2Windows Server 2012 R2 Standard / x64  OK    OK    OK    OK  UNNEEDED, same version is already published
machv2macOS 10.14.6 Mojave / x86_64  OK    OK    OK    OK  UNNEEDED, same version is already published
Package 99/493HostnameOS / ArchINSTALLBUILDCHECKBUILD BIN
CopywriteR 2.26.0  (landing page)
Oscar Krijgsman
git_last_commit: 84f6999
git_last_commit_date: 2021-10-26 12:19:59 -0500
nebbiolo2Linux (Ubuntu 20.04.3 LTS) / x86_64  OK    OK    OK  UNNEEDED, same version is already published
tokay2Windows Server 2012 R2 Standard / x64  OK    OK    OK    OK  UNNEEDED, same version is already published
machv2macOS 10.14.6 Mojave / x86_64  OK    OK    OK    OK  UNNEEDED, same version is already published
Package 100/493HostnameOS / ArchINSTALLBUILDCHECKBUILD BIN
CoverageView 1.32.0  (landing page)
Ernesto Lowy
git_last_commit: fd9a94e
git_last_commit_date: 2021-10-26 12:13:02 -0500
nebbiolo2Linux (Ubuntu 20.04.3 LTS) / x86_64  OK    OK    WARNINGS  UNNEEDED, same version is already published
tokay2Windows Server 2012 R2 Standard / x64... NOT SUPPORTED ...
machv2macOS 10.14.6 Mojave / x86_64  OK    OK    WARNINGS    OK  UNNEEDED, same version is already published
Package 101/493HostnameOS / ArchINSTALLBUILDCHECKBUILD BIN
CRISPRseek 1.34.0  (landing page)
Lihua Julie Zhu
git_last_commit: 11159db
git_last_commit_date: 2021-10-26 12:11:02 -0500
nebbiolo2Linux (Ubuntu 20.04.3 LTS) / x86_64  OK    OK    OK  UNNEEDED, same version is already published
tokay2Windows Server 2012 R2 Standard / x64  OK    OK    ERROR    OK  
machv2macOS 10.14.6 Mojave / x86_64  OK    OK    OK    OK  UNNEEDED, same version is already published
Package 102/493HostnameOS / ArchINSTALLBUILDCHECKBUILD BIN
crisprseekplus 1.20.0  (landing page)
Alper Kucukural
git_last_commit: 25d40a3
git_last_commit_date: 2021-10-26 12:30:57 -0500
nebbiolo2Linux (Ubuntu 20.04.3 LTS) / x86_64  OK    OK    OK  UNNEEDED, same version is already published
tokay2Windows Server 2012 R2 Standard / x64  OK    OK    OK    OK  UNNEEDED, same version is already published
machv2macOS 10.14.6 Mojave / x86_64  OK    OK    OK    OK  UNNEEDED, same version is already published
Package 103/493HostnameOS / ArchINSTALLBUILDCHECKBUILD BIN
CrispRVariants 1.22.0  (landing page)
Helen Lindsay
git_last_commit: 74a5dc2
git_last_commit_date: 2021-10-26 12:24:29 -0500
nebbiolo2Linux (Ubuntu 20.04.3 LTS) / x86_64  OK    OK    WARNINGS  UNNEEDED, same version is already published
tokay2Windows Server 2012 R2 Standard / x64  OK    OK    WARNINGS    OK  UNNEEDED, same version is already published
machv2macOS 10.14.6 Mojave / x86_64  OK    OK    WARNINGS    OK  UNNEEDED, same version is already published
Package 104/493HostnameOS / ArchINSTALLBUILDCHECKBUILD BIN
CSAR 1.46.0  (landing page)
Jose M Muino
git_last_commit: 6b0de68
git_last_commit_date: 2021-10-26 11:55:08 -0500
nebbiolo2Linux (Ubuntu 20.04.3 LTS) / x86_64  OK    OK    OK  UNNEEDED, same version is already published
tokay2Windows Server 2012 R2 Standard / x64  OK    OK    OK    OK  UNNEEDED, same version is already published
machv2macOS 10.14.6 Mojave / x86_64  OK    OK    OK    OK  UNNEEDED, same version is already published
Package 105/493HostnameOS / ArchINSTALLBUILDCHECKBUILD BIN
csaw 1.28.0  (landing page)
Aaron Lun
git_last_commit: b68e21d
git_last_commit_date: 2021-10-26 12:17:01 -0500
nebbiolo2Linux (Ubuntu 20.04.3 LTS) / x86_64  OK    OK    OK  UNNEEDED, same version is already published
tokay2Windows Server 2012 R2 Standard / x64  OK    OK    OK    OK  UNNEEDED, same version is already published
machv2macOS 10.14.6 Mojave / x86_64  OK    OK    OK    OK  UNNEEDED, same version is already published
Package 106/493HostnameOS / ArchINSTALLBUILDCHECKBUILD BIN
CSSQ 1.6.0  (landing page)
Fan Lab at Georgia Institute of Technology
git_last_commit: a7b96ca
git_last_commit_date: 2021-10-26 12:56:31 -0500
nebbiolo2Linux (Ubuntu 20.04.3 LTS) / x86_64  OK    OK    OK  UNNEEDED, same version is already published
tokay2Windows Server 2012 R2 Standard / x64  OK    OK    OK    OK  UNNEEDED, same version is already published
machv2macOS 10.14.6 Mojave / x86_64  OK    OK    OK    OK  UNNEEDED, same version is already published
Package 107/493HostnameOS / ArchINSTALLBUILDCHECKBUILD BIN
customProDB 1.34.0  (landing page)
Xiaojing Wang
git_last_commit: b7cfa9d
git_last_commit_date: 2021-10-26 12:08:26 -0500
nebbiolo2Linux (Ubuntu 20.04.3 LTS) / x86_64  OK    OK    OK  UNNEEDED, same version is already published
tokay2Windows Server 2012 R2 Standard / x64  OK    OK    OK    OK  UNNEEDED, same version is already published
machv2macOS 10.14.6 Mojave / x86_64  OK    OK    OK    OK  UNNEEDED, same version is already published
Package 108/493HostnameOS / ArchINSTALLBUILDCHECKBUILD BIN
DAMEfinder 1.6.0  (landing page)
Stephany Orjuela
git_last_commit: a15961a
git_last_commit_date: 2021-10-26 12:56:58 -0500
nebbiolo2Linux (Ubuntu 20.04.3 LTS) / x86_64  OK    OK    OK  UNNEEDED, same version is already published
tokay2Windows Server 2012 R2 Standard / x64  OK    OK    OK    OK  UNNEEDED, same version is already published
machv2macOS 10.14.6 Mojave / x86_64  OK    OK    OK    OK  UNNEEDED, same version is already published
Package 109/493HostnameOS / ArchINSTALLBUILDCHECKBUILD BIN
dasper 1.4.0  (landing page)
David Zhang
git_last_commit: 0ef46a4
git_last_commit_date: 2021-10-26 13:04:45 -0500
nebbiolo2Linux (Ubuntu 20.04.3 LTS) / x86_64  OK    OK    ERROR  
tokay2Windows Server 2012 R2 Standard / x64  OK    OK    ERROR    OK  
machv2macOS 10.14.6 Mojave / x86_64  OK    OK    ERROR    OK  
Package 110/493HostnameOS / ArchINSTALLBUILDCHECKBUILD BIN
debrowser 1.22.2  (landing page)
Alper Kucukural
git_last_commit: 227faa0
git_last_commit_date: 2021-11-08 12:41:29 -0500
nebbiolo2Linux (Ubuntu 20.04.3 LTS) / x86_64  OK    OK    OK  UNNEEDED, same version is already published
tokay2Windows Server 2012 R2 Standard / x64  OK    OK    OK    OK  UNNEEDED, same version is already published
machv2macOS 10.14.6 Mojave / x86_64  OK    OK    OK    OK  UNNEEDED, same version is already published
Package 111/493HostnameOS / ArchINSTALLBUILDCHECKBUILD BIN
decompTumor2Sig 2.10.0  (landing page)
Rosario M. Piro
git_last_commit: e07e999
git_last_commit_date: 2021-10-26 12:48:26 -0500
nebbiolo2Linux (Ubuntu 20.04.3 LTS) / x86_64  OK    OK    OK  UNNEEDED, same version is already published
tokay2Windows Server 2012 R2 Standard / x64  OK    OK    OK    OK  UNNEEDED, same version is already published
machv2macOS 10.14.6 Mojave / x86_64  OK    OK    OK    OK  UNNEEDED, same version is already published
Package 112/493HostnameOS / ArchINSTALLBUILDCHECKBUILD BIN
deconvR 1.0.1  (landing page)
İrem B. Gündüz
git_last_commit: cda4d8b
git_last_commit_date: 2021-10-28 05:27:39 -0500
nebbiolo2Linux (Ubuntu 20.04.3 LTS) / x86_64  OK    OK    OK  UNNEEDED, same version is already published
tokay2Windows Server 2012 R2 Standard / x64  OK    OK    OK    OK  UNNEEDED, same version is already published
machv2macOS 10.14.6 Mojave / x86_64  OK    OK    OK    OK  UNNEEDED, same version is already published
Package 113/493HostnameOS / ArchINSTALLBUILDCHECKBUILD BIN
DeepBlueR 1.20.0  (landing page)
Felipe Albrecht , Markus List
git_last_commit: cbb9c75
git_last_commit_date: 2021-10-26 12:28:59 -0500
nebbiolo2Linux (Ubuntu 20.04.3 LTS) / x86_64  OK    OK    OK  UNNEEDED, same version is already published
tokay2Windows Server 2012 R2 Standard / x64  OK    OK    OK    OK  UNNEEDED, same version is already published
machv2macOS 10.14.6 Mojave / x86_64  OK    OK    OK    OK  UNNEEDED, same version is already published
Package 114/493HostnameOS / ArchINSTALLBUILDCHECKBUILD BIN
deepSNV 1.40.0  (landing page)
Moritz Gerstung
git_last_commit: 875148c
git_last_commit_date: 2021-10-26 12:01:57 -0500
nebbiolo2Linux (Ubuntu 20.04.3 LTS) / x86_64  OK    OK    OK  UNNEEDED, same version is already published
tokay2Windows Server 2012 R2 Standard / x64  OK    OK    OK    OK  UNNEEDED, same version is already published
machv2macOS 10.14.6 Mojave / x86_64  OK    OK    OK    OK  UNNEEDED, same version is already published
Package 115/493HostnameOS / ArchINSTALLBUILDCHECKBUILD BIN
DEFormats 1.22.0  (landing page)
Andrzej Oleś
git_last_commit: ff4d252
git_last_commit_date: 2021-10-26 12:26:36 -0500
nebbiolo2Linux (Ubuntu 20.04.3 LTS) / x86_64  OK    OK    OK  UNNEEDED, same version is already published
tokay2Windows Server 2012 R2 Standard / x64  OK    OK    OK    OK  UNNEEDED, same version is already published
machv2macOS 10.14.6 Mojave / x86_64  OK    OK    OK    OK  UNNEEDED, same version is already published
Package 116/493HostnameOS / ArchINSTALLBUILDCHECKBUILD BIN
DegNorm 1.4.0  (landing page)
Ji-Ping Wang
git_last_commit: a1776e6
git_last_commit_date: 2021-10-26 13:00:12 -0500
nebbiolo2Linux (Ubuntu 20.04.3 LTS) / x86_64  OK    OK    OK  UNNEEDED, same version is already published
tokay2Windows Server 2012 R2 Standard / x64  OK    OK    OK    OK  UNNEEDED, same version is already published
machv2macOS 10.14.6 Mojave / x86_64  OK    OK    OK    OK  UNNEEDED, same version is already published
Package 117/493HostnameOS / ArchINSTALLBUILDCHECKBUILD BIN
deltaCaptureC 1.8.0  (landing page)
Michael Shapiro
git_last_commit: b2be724
git_last_commit_date: 2021-10-26 12:53:56 -0500
nebbiolo2Linux (Ubuntu 20.04.3 LTS) / x86_64  OK    OK    OK  UNNEEDED, same version is already published
tokay2Windows Server 2012 R2 Standard / x64  OK    OK    OK    OK  UNNEEDED, same version is already published
machv2macOS 10.14.6 Mojave / x86_64  OK    OK    OK    OK  UNNEEDED, same version is already published
Package 118/493HostnameOS / ArchINSTALLBUILDCHECKBUILD BIN
derfinder 1.28.0  (landing page)
Leonardo Collado-Torres
git_last_commit: 9f12ac9
git_last_commit_date: 2021-10-26 12:16:21 -0500
nebbiolo2Linux (Ubuntu 20.04.3 LTS) / x86_64  OK    OK    OK  UNNEEDED, same version is already published
tokay2Windows Server 2012 R2 Standard / x64  OK    OK    OK    OK  UNNEEDED, same version is already published
machv2macOS 10.14.6 Mojave / x86_64  OK    ERROR  skippedskipped
Package 119/493HostnameOS / ArchINSTALLBUILDCHECKBUILD BIN
derfinderPlot 1.28.1  (landing page)
Leonardo Collado-Torres
git_last_commit: 62c9d98
git_last_commit_date: 2021-11-22 19:33:33 -0500
nebbiolo2Linux (Ubuntu 20.04.3 LTS) / x86_64  OK    OK    OK  YES
tokay2Windows Server 2012 R2 Standard / x64  OK    OK    OK    OK  YES
machv2macOS 10.14.6 Mojave / x86_64  OK    OK    OK    OK  YES
Package 120/493HostnameOS / ArchINSTALLBUILDCHECKBUILD BIN
DEScan2 1.14.1  (landing page)
Dario Righelli
git_last_commit: 750fd91
git_last_commit_date: 2021-11-18 04:40:05 -0500
nebbiolo2Linux (Ubuntu 20.04.3 LTS) / x86_64  OK    OK    OK  UNNEEDED, same version is already published
tokay2Windows Server 2012 R2 Standard / x64  OK    OK    OK    OK  UNNEEDED, same version is already published
machv2macOS 10.14.6 Mojave / x86_64  OK    OK    OK    OK  UNNEEDED, same version is already published
Package 121/493HostnameOS / ArchINSTALLBUILDCHECKBUILD BIN
DESeq2 1.34.0  (landing page)
Michael Love
git_last_commit: 25d4f74
git_last_commit_date: 2021-10-26 12:06:54 -0500
nebbiolo2Linux (Ubuntu 20.04.3 LTS) / x86_64  OK    OK    OK  UNNEEDED, same version is already published
tokay2Windows Server 2012 R2 Standard / x64  OK    OK    OK    OK  UNNEEDED, same version is already published
machv2macOS 10.14.6 Mojave / x86_64  OK    OK    OK    OK  UNNEEDED, same version is already published
Package 122/493HostnameOS / ArchINSTALLBUILDCHECKBUILD BIN
DEWSeq 1.8.0  (landing page)
bioinformatics team Hentze
git_last_commit: 7686f86
git_last_commit_date: 2021-10-26 12:55:35 -0500
nebbiolo2Linux (Ubuntu 20.04.3 LTS) / x86_64  OK    OK    OK  UNNEEDED, same version is already published
tokay2Windows Server 2012 R2 Standard / x64  OK    OK    OK    OK  UNNEEDED, same version is already published
machv2macOS 10.14.6 Mojave / x86_64  OK    OK    OK    OK  UNNEEDED, same version is already published
Package 123/493HostnameOS / ArchINSTALLBUILDCHECKBUILD BIN
DEXSeq 1.40.0  (landing page)
Alejandro Reyes
git_last_commit: 7d2d639
git_last_commit_date: 2021-10-26 11:59:26 -0500
nebbiolo2Linux (Ubuntu 20.04.3 LTS) / x86_64  OK    OK    OK  UNNEEDED, same version is already published
tokay2Windows Server 2012 R2 Standard / x64  OK    OK    OK    OK  UNNEEDED, same version is already published
machv2macOS 10.14.6 Mojave / x86_64  OK    OK    OK    OK  UNNEEDED, same version is already published
Package 124/493HostnameOS / ArchINSTALLBUILDCHECKBUILD BIN
DiffBind 3.4.0  (landing page)
Rory Stark
git_last_commit: c2039d2
git_last_commit_date: 2021-10-26 12:00:30 -0500
nebbiolo2Linux (Ubuntu 20.04.3 LTS) / x86_64  OK    OK    OK  UNNEEDED, same version is already published
tokay2Windows Server 2012 R2 Standard / x64  OK    OK    OK    OK  UNNEEDED, same version is already published
machv2macOS 10.14.6 Mojave / x86_64  OK    OK    OK    OK  UNNEEDED, same version is already published
Package 125/493HostnameOS / ArchINSTALLBUILDCHECKBUILD BIN
diffHic 1.26.0  (landing page)
Aaron Lun
git_last_commit: 7a9008e
git_last_commit_date: 2021-10-26 12:20:24 -0500
nebbiolo2Linux (Ubuntu 20.04.3 LTS) / x86_64  OK    OK    OK  UNNEEDED, same version is already published
tokay2Windows Server 2012 R2 Standard / x64  OK    OK    OK    OK  UNNEEDED, same version is already published
machv2macOS 10.14.6 Mojave / x86_64  OK    OK    OK    OK  UNNEEDED, same version is already published
Package 126/493HostnameOS / ArchINSTALLBUILDCHECKBUILD BIN
diffloop 1.22.0  (landing page)
Caleb Lareau
git_last_commit: 684b6b0
git_last_commit_date: 2021-10-26 12:27:40 -0500
nebbiolo2Linux (Ubuntu 20.04.3 LTS) / x86_64  OK    OK    OK  UNNEEDED, same version is already published
tokay2Windows Server 2012 R2 Standard / x64  OK    OK    WARNINGS    OK  UNNEEDED, same version is already published
machv2macOS 10.14.6 Mojave / x86_64  OK    OK    OK    OK  UNNEEDED, same version is already published
Package 127/493HostnameOS / ArchINSTALLBUILDCHECKBUILD BIN
diffUTR 1.2.0  (landing page)
Pierre-Luc Germain
git_last_commit: feef7a8
git_last_commit_date: 2021-10-26 13:09:41 -0500
nebbiolo2Linux (Ubuntu 20.04.3 LTS) / x86_64  OK    OK    OK  UNNEEDED, same version is already published
tokay2Windows Server 2012 R2 Standard / x64  OK    OK    OK    OK  UNNEEDED, same version is already published
machv2macOS 10.14.6 Mojave / x86_64  OK    OK    OK    OK  UNNEEDED, same version is already published
Package 128/493HostnameOS / ArchINSTALLBUILDCHECKBUILD BIN
DMCFB 1.8.0  (landing page)
Farhad Shokoohi
git_last_commit: eab8fbe
git_last_commit_date: 2021-10-26 12:54:46 -0500
nebbiolo2Linux (Ubuntu 20.04.3 LTS) / x86_64  OK    OK    OK  UNNEEDED, same version is already published
tokay2Windows Server 2012 R2 Standard / x64  OK    OK    OK    OK  UNNEEDED, same version is already published
machv2macOS 10.14.6 Mojave / x86_64  OK    OK    OK    OK  UNNEEDED, same version is already published
Package 129/493HostnameOS / ArchINSTALLBUILDCHECKBUILD BIN
DMCHMM 1.16.0  (landing page)
Farhad Shokoohi
git_last_commit: efaf39a
git_last_commit_date: 2021-10-26 12:37:33 -0500
nebbiolo2Linux (Ubuntu 20.04.3 LTS) / x86_64  OK    OK    OK  UNNEEDED, same version is already published
tokay2Windows Server 2012 R2 Standard / x64  OK    OK    WARNINGS    OK  UNNEEDED, same version is already published
machv2macOS 10.14.6 Mojave / x86_64  OK    OK    OK    OK  UNNEEDED, same version is already published
Package 130/493HostnameOS / ArchINSTALLBUILDCHECKBUILD BIN
DMRcaller 1.26.0  (landing page)
Nicolae Radu Zabet
git_last_commit: 164d55c
git_last_commit_date: 2021-10-26 12:19:46 -0500
nebbiolo2Linux (Ubuntu 20.04.3 LTS) / x86_64  OK    OK    OK  UNNEEDED, same version is already published
tokay2Windows Server 2012 R2 Standard / x64  OK    OK    OK    OK  UNNEEDED, same version is already published
machv2macOS 10.14.6 Mojave / x86_64  OK    OK    OK    OK  UNNEEDED, same version is already published
Package 131/493HostnameOS / ArchINSTALLBUILDCHECKBUILD BIN
DMRcate 2.8.0  (landing page)
Tim Peters
git_last_commit: 984cee7
git_last_commit_date: 2021-10-26 12:12:00 -0500
nebbiolo2Linux (Ubuntu 20.04.3 LTS) / x86_64  OK    OK    WARNINGS  UNNEEDED, same version is already published
tokay2Windows Server 2012 R2 Standard / x64  OK    OK    ERROR    OK  
machv2macOS 10.14.6 Mojave / x86_64  OK    OK    ERROR    OK  
Package 132/493HostnameOS / ArchINSTALLBUILDCHECKBUILD BIN
DMRforPairs 1.30.0  (landing page)
Martin Rijlaarsdam
git_last_commit: 93fa270
git_last_commit_date: 2021-10-26 12:13:07 -0500
nebbiolo2Linux (Ubuntu 20.04.3 LTS) / x86_64  OK    OK    OK  UNNEEDED, same version is already published
tokay2Windows Server 2012 R2 Standard / x64  OK    OK    OK    OK  UNNEEDED, same version is already published
machv2macOS 10.14.6 Mojave / x86_64  OK    OK    OK    OK  UNNEEDED, same version is already published
Package 133/493HostnameOS / ArchINSTALLBUILDCHECKBUILD BIN
DMRScan 1.16.0  (landing page)
Christian M Page
git_last_commit: 347754a
git_last_commit_date: 2021-10-26 12:32:33 -0500
nebbiolo2Linux (Ubuntu 20.04.3 LTS) / x86_64  OK    OK    OK  UNNEEDED, same version is already published
tokay2Windows Server 2012 R2 Standard / x64  OK    OK    OK    OK  UNNEEDED, same version is already published
machv2macOS 10.14.6 Mojave / x86_64  OK    OK    OK    OK  UNNEEDED, same version is already published
Package 134/493HostnameOS / ArchINSTALLBUILDCHECKBUILD BIN
dmrseq 1.14.0  (landing page)
Keegan Korthauer
git_last_commit: ae24c3a
git_last_commit_date: 2021-10-26 12:42:12 -0500
nebbiolo2Linux (Ubuntu 20.04.3 LTS) / x86_64  OK    OK    WARNINGS  UNNEEDED, same version is already published
tokay2Windows Server 2012 R2 Standard / x64  OK    OK    WARNINGS    OK  UNNEEDED, same version is already published
machv2macOS 10.14.6 Mojave / x86_64  OK    OK    WARNINGS    OK  UNNEEDED, same version is already published
Package 135/493HostnameOS / ArchINSTALLBUILDCHECKBUILD BIN
DNAshapeR 1.22.0  (landing page)
Tsu-Pei Chiu
git_last_commit: 851b8af
git_last_commit_date: 2021-10-26 12:26:17 -0500
nebbiolo2Linux (Ubuntu 20.04.3 LTS) / x86_64  OK    OK    OK  UNNEEDED, same version is already published
tokay2Windows Server 2012 R2 Standard / x64  OK    OK    OK    OK  UNNEEDED, same version is already published
machv2macOS 10.14.6 Mojave / x86_64  OK    OK    OK    OK  UNNEEDED, same version is already published
Package 136/493HostnameOS / ArchINSTALLBUILDCHECKBUILD BIN
DominoEffect 1.14.0  (landing page)
Marija Buljan
git_last_commit: edcdc89
git_last_commit_date: 2021-10-26 12:42:03 -0500
nebbiolo2Linux (Ubuntu 20.04.3 LTS) / x86_64  OK    OK    OK  UNNEEDED, same version is already published
tokay2Windows Server 2012 R2 Standard / x64  OK    OK    OK    OK  UNNEEDED, same version is already published
machv2macOS 10.14.6 Mojave / x86_64  OK    OK    OK    OK  UNNEEDED, same version is already published
Package 137/493HostnameOS / ArchINSTALLBUILDCHECKBUILD BIN
DRIMSeq 1.22.0  (landing page)
Malgorzata Nowicka
git_last_commit: a22c59b
git_last_commit_date: 2021-10-26 12:26:21 -0500
nebbiolo2Linux (Ubuntu 20.04.3 LTS) / x86_64  OK    OK    WARNINGS  UNNEEDED, same version is already published
tokay2Windows Server 2012 R2 Standard / x64  OK    OK    WARNINGS    OK  UNNEEDED, same version is already published
machv2macOS 10.14.6 Mojave / x86_64  OK    OK    WARNINGS    OK  UNNEEDED, same version is already published
Package 138/493HostnameOS / ArchINSTALLBUILDCHECKBUILD BIN
DropletUtils 1.14.1  (landing page)
Aaron Lun
git_last_commit: 47aaa50
git_last_commit_date: 2021-11-08 02:52:46 -0500
nebbiolo2Linux (Ubuntu 20.04.3 LTS) / x86_64  OK    OK    OK  UNNEEDED, same version is already published
tokay2Windows Server 2012 R2 Standard / x64  OK    OK    OK    OK  UNNEEDED, same version is already published
machv2macOS 10.14.6 Mojave / x86_64  OK    OK    OK    OK  UNNEEDED, same version is already published
Package 139/493HostnameOS / ArchINSTALLBUILDCHECKBUILD BIN
easyRNASeq 2.30.0  (landing page)
Nicolas Delhomme
git_last_commit: deeb59e
git_last_commit_date: 2021-10-26 12:01:41 -0500
nebbiolo2Linux (Ubuntu 20.04.3 LTS) / x86_64  OK    OK    ERROR  
tokay2Windows Server 2012 R2 Standard / x64  OK    OK    OK    OK  UNNEEDED, same version is already published
machv2macOS 10.14.6 Mojave / x86_64  OK    OK    OK    OK  UNNEEDED, same version is already published
Package 140/493HostnameOS / ArchINSTALLBUILDCHECKBUILD BIN
EDASeq 2.28.0  (landing page)
Davide Risso
git_last_commit: 358891b
git_last_commit_date: 2021-10-26 12:00:24 -0500
nebbiolo2Linux (Ubuntu 20.04.3 LTS) / x86_64  OK    OK    OK  UNNEEDED, same version is already published
tokay2Windows Server 2012 R2 Standard / x64  OK    OK    OK    OK  UNNEEDED, same version is already published
machv2macOS 10.14.6 Mojave / x86_64  OK    OK    OK    OK  UNNEEDED, same version is already published
Package 141/493HostnameOS / ArchINSTALLBUILDCHECKBUILD BIN
eisaR 1.6.0  (landing page)
Michael Stadler
git_last_commit: e42ce13
git_last_commit_date: 2021-10-26 12:57:58 -0500
nebbiolo2Linux (Ubuntu 20.04.3 LTS) / x86_64  OK    OK    OK  UNNEEDED, same version is already published
tokay2Windows Server 2012 R2 Standard / x64  OK    OK    OK    OK  UNNEEDED, same version is already published
machv2macOS 10.14.6 Mojave / x86_64  OK    OK    OK    OK  UNNEEDED, same version is already published
Package 142/493HostnameOS / ArchINSTALLBUILDCHECKBUILD BIN
ELMER 2.18.0  (landing page)
Tiago Chedraoui Silva
git_last_commit: b116994
git_last_commit_date: 2021-10-26 12:20:53 -0500
nebbiolo2Linux (Ubuntu 20.04.3 LTS) / x86_64  OK    OK    OK  UNNEEDED, same version is already published
tokay2Windows Server 2012 R2 Standard / x64  OK    ERROR  skippedskipped
machv2macOS 10.14.6 Mojave / x86_64  OK    OK    OK    OK  UNNEEDED, same version is already published
Package 143/493HostnameOS / ArchINSTALLBUILDCHECKBUILD BIN
ENCODExplorer 2.20.0  (landing page)
Charles Joly Beauparlant
git_last_commit: 5a12d2d
git_last_commit_date: 2021-10-26 12:20:28 -0500
nebbiolo2Linux (Ubuntu 20.04.3 LTS) / x86_64  OK    OK    ERROR  
tokay2Windows Server 2012 R2 Standard / x64  OK    OK    ERROR    OK  
machv2macOS 10.14.6 Mojave / x86_64  OK    OK    ERROR    OK  
Package 144/493HostnameOS / ArchINSTALLBUILDCHECKBUILD BIN
enhancerHomologSearch 1.0.0  (landing page)
Jianhong Ou
git_last_commit: 46463b4
git_last_commit_date: 2021-10-26 13:11:45 -0500
nebbiolo2Linux (Ubuntu 20.04.3 LTS) / x86_64  OK    OK    OK  UNNEEDED, same version is already published
tokay2Windows Server 2012 R2 Standard / x64  OK    OK    OK    OK  UNNEEDED, same version is already published
machv2macOS 10.14.6 Mojave / x86_64  OK    OK    OK    OK  UNNEEDED, same version is already published
Package 145/493HostnameOS / ArchINSTALLBUILDCHECKBUILD BIN
EnrichedHeatmap 1.24.0  (landing page)
Zuguang Gu
git_last_commit: 40ef524
git_last_commit_date: 2021-10-26 12:22:43 -0500
nebbiolo2Linux (Ubuntu 20.04.3 LTS) / x86_64  OK    OK    OK  UNNEEDED, same version is already published
tokay2Windows Server 2012 R2 Standard / x64  OK    OK    OK    OK  UNNEEDED, same version is already published
machv2macOS 10.14.6 Mojave / x86_64  OK    OK    OK    OK  UNNEEDED, same version is already published
Package 146/493HostnameOS / ArchINSTALLBUILDCHECKBUILD BIN
enrichTF 1.10.0  (landing page)
Zheng Wei
git_last_commit: bc4115f
git_last_commit_date: 2021-10-26 12:51:43 -0500
nebbiolo2Linux (Ubuntu 20.04.3 LTS) / x86_64  OK    OK    OK  UNNEEDED, same version is already published
tokay2Windows Server 2012 R2 Standard / x64  OK    OK    OK    OK  UNNEEDED, same version is already published
machv2macOS 10.14.6 Mojave / x86_64  OK    OK    OK    OK  UNNEEDED, same version is already published
Package 147/493HostnameOS / ArchINSTALLBUILDCHECKBUILD BIN
ensembldb 2.18.2  (landing page)
Johannes Rainer
git_last_commit: a633cec
git_last_commit_date: 2021-11-08 10:02:00 -0500
nebbiolo2Linux (Ubuntu 20.04.3 LTS) / x86_64  OK    OK    OK  UNNEEDED, same version is already published
tokay2Windows Server 2012 R2 Standard / x64  OK    OK    OK    OK  UNNEEDED, same version is already published
machv2macOS 10.14.6 Mojave / x86_64  OK    OK    OK    OK  UNNEEDED, same version is already published
Package 148/493HostnameOS / ArchINSTALLBUILDCHECKBUILD BIN
ensemblVEP 1.36.0  (landing page)
Bioconductor Package Maintainer
git_last_commit: 0564e56
git_last_commit_date: 2021-10-26 12:05:50 -0500
nebbiolo2Linux (Ubuntu 20.04.3 LTS) / x86_64  OK    OK    OK  UNNEEDED, same version is already published
tokay2Windows Server 2012 R2 Standard / x64... NOT SUPPORTED ...
machv2macOS 10.14.6 Mojave / x86_64  OK    OK    OK    OK  UNNEEDED, same version is already published
Package 149/493HostnameOS / ArchINSTALLBUILDCHECKBUILD BIN
epialleleR 1.2.0  (landing page)
Oleksii Nikolaienko
git_last_commit: 625bf03
git_last_commit_date: 2021-10-26 13:09:49 -0500
nebbiolo2Linux (Ubuntu 20.04.3 LTS) / x86_64  OK    OK    OK  UNNEEDED, same version is already published
tokay2Windows Server 2012 R2 Standard / x64  OK    OK    WARNINGS    OK  UNNEEDED, same version is already published
machv2macOS 10.14.6 Mojave / x86_64  OK    OK    OK    OK  UNNEEDED, same version is already published
Package 150/493HostnameOS / ArchINSTALLBUILDCHECKBUILD BIN
epidecodeR 1.2.0  (landing page)
Kandarp Joshi
git_last_commit: 34677d2
git_last_commit_date: 2021-10-26 13:08:27 -0500
nebbiolo2Linux (Ubuntu 20.04.3 LTS) / x86_64  OK    OK    OK  UNNEEDED, same version is already published
tokay2Windows Server 2012 R2 Standard / x64  OK    OK    OK    OK  UNNEEDED, same version is already published
machv2macOS 10.14.6 Mojave / x86_64  OK    OK    OK    OK  UNNEEDED, same version is already published
Package 151/493HostnameOS / ArchINSTALLBUILDCHECKBUILD BIN
epigenomix 1.34.0  (landing page)
Hans-Ulrich Klein
git_last_commit: 11b683e
git_last_commit_date: 2021-10-26 12:07:06 -0500
nebbiolo2Linux (Ubuntu 20.04.3 LTS) / x86_64  OK    OK    OK  UNNEEDED, same version is already published
tokay2Windows Server 2012 R2 Standard / x64  OK    OK    OK    OK  UNNEEDED, same version is already published
machv2macOS 10.14.6 Mojave / x86_64  OK    OK    OK    OK  UNNEEDED, same version is already published
Package 152/493HostnameOS / ArchINSTALLBUILDCHECKBUILD BIN
epigraHMM 1.2.0  (landing page)
Pedro Baldoni
git_last_commit: 57467ee
git_last_commit_date: 2021-10-26 13:10:21 -0500
nebbiolo2Linux (Ubuntu 20.04.3 LTS) / x86_64  OK    OK    OK  UNNEEDED, same version is already published
tokay2Windows Server 2012 R2 Standard / x64  OK    OK    OK    OK  UNNEEDED, same version is already published
machv2macOS 10.14.6 Mojave / x86_64  OK    OK    OK    OK  UNNEEDED, same version is already published
Package 153/493HostnameOS / ArchINSTALLBUILDCHECKBUILD BIN
epihet 1.10.0  (landing page)
Xiaowen Chen
git_last_commit: 59ace58
git_last_commit_date: 2021-10-26 12:48:37 -0500
nebbiolo2Linux (Ubuntu 20.04.3 LTS) / x86_64  OK    OK    OK  UNNEEDED, same version is already published
tokay2Windows Server 2012 R2 Standard / x64  OK    OK    OK    OK  UNNEEDED, same version is already published
machv2macOS 10.14.6 Mojave / x86_64  OK    OK    OK    OK  UNNEEDED, same version is already published
Package 154/493HostnameOS / ArchINSTALLBUILDCHECKBUILD BIN
epistack 1.0.0  (landing page)
DEVAILLY Guillaume
git_last_commit: fe0a920
git_last_commit_date: 2021-10-26 13:13:25 -0500
nebbiolo2Linux (Ubuntu 20.04.3 LTS) / x86_64  OK    OK    OK  UNNEEDED, same version is already published
tokay2Windows Server 2012 R2 Standard / x64  OK    OK    OK    OK  UNNEEDED, same version is already published
machv2macOS 10.14.6 Mojave / x86_64  OK    OK    OK    OK  UNNEEDED, same version is already published
Package 155/493HostnameOS / ArchINSTALLBUILDCHECKBUILD BIN
EpiTxDb 1.6.0  (landing page)
Felix G.M. Ernst
git_last_commit: 18f60f3
git_last_commit_date: 2021-10-26 12:58:00 -0500
nebbiolo2Linux (Ubuntu 20.04.3 LTS) / x86_64  OK    OK    OK  UNNEEDED, same version is already published
tokay2Windows Server 2012 R2 Standard / x64  OK    OK    OK    OK  UNNEEDED, same version is already published
machv2macOS 10.14.6 Mojave / x86_64  OK    OK    OK    OK  UNNEEDED, same version is already published
Package 156/493HostnameOS / ArchINSTALLBUILDCHECKBUILD BIN
epivizr 2.24.0  (landing page)
Hector Corrada Bravo
git_last_commit: 3199fac
git_last_commit_date: 2021-10-26 12:10:18 -0500
nebbiolo2Linux (Ubuntu 20.04.3 LTS) / x86_64  OK    OK    OK  UNNEEDED, same version is already published
tokay2Windows Server 2012 R2 Standard / x64  OK    OK    OK    OK  UNNEEDED, same version is already published
machv2macOS 10.14.6 Mojave / x86_64  OK    OK    OK    OK  UNNEEDED, same version is already published
Package 157/493HostnameOS / ArchINSTALLBUILDCHECKBUILD BIN
epivizrData 1.22.0  (landing page)
Hector Corrada Bravo
git_last_commit: 2f00af5
git_last_commit_date: 2021-10-26 12:27:38 -0500
nebbiolo2Linux (Ubuntu 20.04.3 LTS) / x86_64  OK    OK    OK  UNNEEDED, same version is already published
tokay2Windows Server 2012 R2 Standard / x64  OK    OK    OK    OK  UNNEEDED, same version is already published
machv2macOS 10.14.6 Mojave / x86_64  OK    OK    OK    OK  UNNEEDED, same version is already published
Package 158/493HostnameOS / ArchINSTALLBUILDCHECKBUILD BIN
erma 1.10.0  (landing page)
VJ Carey
git_last_commit: 8ff4f3c
git_last_commit_date: 2021-10-26 12:21:07 -0500
nebbiolo2Linux (Ubuntu 20.04.3 LTS) / x86_64  OK    OK    OK  UNNEEDED, same version is already published
tokay2Windows Server 2012 R2 Standard / x64  OK    OK    OK    OK  UNNEEDED, same version is already published
machv2macOS 10.14.6 Mojave / x86_64  OK    OK    OK    OK  UNNEEDED, same version is already published
Package 159/493HostnameOS / ArchINSTALLBUILDCHECKBUILD BIN
esATAC 1.16.0  (landing page)
Zheng Wei
git_last_commit: 094b015
git_last_commit_date: 2021-10-26 12:40:03 -0500
nebbiolo2Linux (Ubuntu 20.04.3 LTS) / x86_64  OK    OK    OK  UNNEEDED, same version is already published
tokay2Windows Server 2012 R2 Standard / x64  OK    OK    OK    OK  UNNEEDED, same version is already published
machv2macOS 10.14.6 Mojave / x86_64  OK    OK    OK    OK  UNNEEDED, same version is already published
Package 160/493HostnameOS / ArchINSTALLBUILDCHECKBUILD BIN
EventPointer 3.2.0  (landing page)
Juan A. Ferrer-Bonsoms
git_last_commit: a608b07
git_last_commit_date: 2021-10-26 12:33:23 -0500
nebbiolo2Linux (Ubuntu 20.04.3 LTS) / x86_64  OK    OK    OK  UNNEEDED, same version is already published
tokay2Windows Server 2012 R2 Standard / x64  OK    OK    OK    OK  UNNEEDED, same version is already published
machv2macOS 10.14.6 Mojave / x86_64  OK    OK    OK    OK  UNNEEDED, same version is already published
Package 161/493HostnameOS / ArchINSTALLBUILDCHECKBUILD BIN
ExCluster 1.12.0  (landing page)
R. Matthew Tanner
git_last_commit: 033bb91
git_last_commit_date: 2021-10-26 12:47:03 -0500
nebbiolo2Linux (Ubuntu 20.04.3 LTS) / x86_64  OK    OK    OK  UNNEEDED, same version is already published
tokay2Windows Server 2012 R2 Standard / x64... NOT SUPPORTED ...
machv2macOS 10.14.6 Mojave / x86_64  OK    OK    OK    OK  UNNEEDED, same version is already published
Package 162/493HostnameOS / ArchINSTALLBUILDCHECKBUILD BIN
exomeCopy 1.40.0  (landing page)
Michael Love
git_last_commit: ebde39b
git_last_commit_date: 2021-10-26 12:01:03 -0500
nebbiolo2Linux (Ubuntu 20.04.3 LTS) / x86_64  OK    OK    OK  UNNEEDED, same version is already published
tokay2Windows Server 2012 R2 Standard / x64  OK    OK    OK    OK  UNNEEDED, same version is already published
machv2macOS 10.14.6 Mojave / x86_64  OK    OK    OK    OK  UNNEEDED, same version is already published
Package 163/493HostnameOS / ArchINSTALLBUILDCHECKBUILD BIN
exomePeak2 1.6.0  (landing page)
Zhen Wei
git_last_commit: 50ec4d5
git_last_commit_date: 2021-10-26 12:57:41 -0500
nebbiolo2Linux (Ubuntu 20.04.3 LTS) / x86_64  OK    OK    WARNINGS  UNNEEDED, same version is already published
tokay2Windows Server 2012 R2 Standard / x64  OK    OK    WARNINGS    OK  UNNEEDED, same version is already published
machv2macOS 10.14.6 Mojave / x86_64  OK    OK    WARNINGS    OK  UNNEEDED, same version is already published
Package 164/493HostnameOS / ArchINSTALLBUILDCHECKBUILD BIN
fastseg 1.40.0  (landing page)
Guenter Klambauer
git_last_commit: e78ee7a
git_last_commit_date: 2021-10-26 12:01:23 -0500
nebbiolo2Linux (Ubuntu 20.04.3 LTS) / x86_64  OK    OK    WARNINGS  UNNEEDED, same version is already published
tokay2Windows Server 2012 R2 Standard / x64  OK    OK    WARNINGS    OK  UNNEEDED, same version is already published
machv2macOS 10.14.6 Mojave / x86_64  OK    OK    WARNINGS    OK  UNNEEDED, same version is already published
Package 165/493HostnameOS / ArchINSTALLBUILDCHECKBUILD BIN
fCCAC 1.20.0  (landing page)
Pedro Madrigal
git_last_commit: bb89ba7
git_last_commit_date: 2021-10-26 12:31:23 -0500
nebbiolo2Linux (Ubuntu 20.04.3 LTS) / x86_64  OK    OK    OK  UNNEEDED, same version is already published
tokay2Windows Server 2012 R2 Standard / x64  OK    OK    OK    OK  UNNEEDED, same version is already published
machv2macOS 10.14.6 Mojave / x86_64  OK    OK    OK    OK  UNNEEDED, same version is already published
Package 166/493HostnameOS / ArchINSTALLBUILDCHECKBUILD BIN
fcScan 1.8.0  (landing page)
Pierre Khoueiry Abdullah El-Kurdi
git_last_commit: d81e849
git_last_commit_date: 2021-10-26 12:53:32 -0500
nebbiolo2Linux (Ubuntu 20.04.3 LTS) / x86_64  OK    OK    OK  UNNEEDED, same version is already published
tokay2Windows Server 2012 R2 Standard / x64  OK    OK    OK    OK  UNNEEDED, same version is already published
machv2macOS 10.14.6 Mojave / x86_64  OK    OK    OK    OK  UNNEEDED, same version is already published
Package 167/493HostnameOS / ArchINSTALLBUILDCHECKBUILD BIN
FilterFFPE 1.4.0  (landing page)
Lanying Wei
git_last_commit: 6dffc7d
git_last_commit_date: 2021-10-26 13:02:40 -0500
nebbiolo2Linux (Ubuntu 20.04.3 LTS) / x86_64  OK    OK    OK  UNNEEDED, same version is already published
tokay2Windows Server 2012 R2 Standard / x64  OK    OK    OK    OK  UNNEEDED, same version is already published
machv2macOS 10.14.6 Mojave / x86_64  OK    OK    OK    OK  UNNEEDED, same version is already published
Package 168/493HostnameOS / ArchINSTALLBUILDCHECKBUILD BIN
FindIT2 1.0.1  (landing page)
Guandong Shang
git_last_commit: 6cecb3c
git_last_commit_date: 2021-11-09 08:21:02 -0500
nebbiolo2Linux (Ubuntu 20.04.3 LTS) / x86_64  OK    OK    OK  UNNEEDED, same version is already published
tokay2Windows Server 2012 R2 Standard / x64  OK    OK    OK    OK  UNNEEDED, same version is already published
machv2macOS 10.14.6 Mojave / x86_64  OK    OK    OK    OK  UNNEEDED, same version is already published
Package 169/493HostnameOS / ArchINSTALLBUILDCHECKBUILD BIN
FRASER 1.6.0  (landing page)
Christian Mertes
git_last_commit: fa070e3
git_last_commit_date: 2021-10-26 12:59:14 -0500
nebbiolo2Linux (Ubuntu 20.04.3 LTS) / x86_64  OK    OK    OK  UNNEEDED, same version is already published
tokay2Windows Server 2012 R2 Standard / x64  OK    OK    OK    OK  UNNEEDED, same version is already published
machv2macOS 10.14.6 Mojave / x86_64  OK    OK    OK    OK  UNNEEDED, same version is already published
Package 170/493HostnameOS / ArchINSTALLBUILDCHECKBUILD BIN
FunChIP 1.20.0  (landing page)
Alice Parodi
git_last_commit: 91d2320
git_last_commit_date: 2021-10-26 12:28:11 -0500
nebbiolo2Linux (Ubuntu 20.04.3 LTS) / x86_64  OK    OK    WARNINGS  UNNEEDED, same version is already published
tokay2Windows Server 2012 R2 Standard / x64  OK    OK    WARNINGS    OK  UNNEEDED, same version is already published
machv2macOS 10.14.6 Mojave / x86_64  OK    OK    WARNINGS    OK  UNNEEDED, same version is already published
Package 171/493HostnameOS / ArchINSTALLBUILDCHECKBUILD BIN
GA4GHclient 1.18.0  (landing page)
Welliton Souza
git_last_commit: c427dfd
git_last_commit_date: 2021-10-26 12:34:05 -0500
nebbiolo2Linux (Ubuntu 20.04.3 LTS) / x86_64  OK    OK    OK  UNNEEDED, same version is already published
tokay2Windows Server 2012 R2 Standard / x64  OK    OK    OK    OK  UNNEEDED, same version is already published
machv2macOS 10.14.6 Mojave / x86_64  OK    OK    OK    OK  UNNEEDED, same version is already published
Package 172/493HostnameOS / ArchINSTALLBUILDCHECKBUILD BIN
gcapc 1.18.0  (landing page)
Mingxiang Teng
git_last_commit: 98b82d1
git_last_commit_date: 2021-10-26 12:31:55 -0500
nebbiolo2Linux (Ubuntu 20.04.3 LTS) / x86_64  OK    OK    OK  UNNEEDED, same version is already published
tokay2Windows Server 2012 R2 Standard / x64  OK    OK    OK    OK  UNNEEDED, same version is already published
machv2macOS 10.14.6 Mojave / x86_64  OK    OK    OK    OK  UNNEEDED, same version is already published
Package 173/493HostnameOS / ArchINSTALLBUILDCHECKBUILD BIN
genbankr 1.22.0  (landing page)
Gabriel Becker
git_last_commit: be3c635
git_last_commit_date: 2021-10-26 12:27:18 -0500
nebbiolo2Linux (Ubuntu 20.04.3 LTS) / x86_64  OK    OK    OK  UNNEEDED, same version is already published
tokay2Windows Server 2012 R2 Standard / x64  OK    OK    OK    OK  UNNEEDED, same version is already published
machv2macOS 10.14.6 Mojave / x86_64  OK    OK    OK    OK  UNNEEDED, same version is already published
Package 174/493HostnameOS / ArchINSTALLBUILDCHECKBUILD BIN
geneAttribution 1.20.0  (landing page)
Arthur Wuster
git_last_commit: 57613fe
git_last_commit_date: 2021-10-26 12:29:48 -0500
nebbiolo2Linux (Ubuntu 20.04.3 LTS) / x86_64  OK    OK    OK  UNNEEDED, same version is already published
tokay2Windows Server 2012 R2 Standard / x64  OK    OK    OK    OK  UNNEEDED, same version is already published
machv2macOS 10.14.6 Mojave / x86_64  OK    OK    OK    OK  UNNEEDED, same version is already published
Package 175/493HostnameOS / ArchINSTALLBUILDCHECKBUILD BIN
GeneBreak 1.24.0  (landing page)
Evert van den Broek
git_last_commit: 99d931d
git_last_commit_date: 2021-10-26 12:23:22 -0500
nebbiolo2Linux (Ubuntu 20.04.3 LTS) / x86_64  OK    OK    OK  UNNEEDED, same version is already published
tokay2Windows Server 2012 R2 Standard / x64  OK    OK    OK    OK  UNNEEDED, same version is already published
machv2macOS 10.14.6 Mojave / x86_64  OK    OK    OK    OK  UNNEEDED, same version is already published
Package 176/493HostnameOS / ArchINSTALLBUILDCHECKBUILD BIN
GeneGeneInteR 1.20.0  (landing page)
Mathieu Emily
git_last_commit: ddbc7c1
git_last_commit_date: 2021-10-26 12:29:11 -0500
nebbiolo2Linux (Ubuntu 20.04.3 LTS) / x86_64  OK    OK    OK  UNNEEDED, same version is already published
tokay2Windows Server 2012 R2 Standard / x64  OK    OK    OK    OK  UNNEEDED, same version is already published
machv2macOS 10.14.6 Mojave / x86_64  OK    OK    OK    OK  UNNEEDED, same version is already published
Package 177/493HostnameOS / ArchINSTALLBUILDCHECKBUILD BIN
geneRxCluster 1.30.0  (landing page)
Charles Berry
git_last_commit: 3680d0c
git_last_commit_date: 2021-10-26 12:11:22 -0500
nebbiolo2Linux (Ubuntu 20.04.3 LTS) / x86_64  OK    OK    OK  UNNEEDED, same version is already published
tokay2Windows Server 2012 R2 Standard / x64  OK    OK    OK    OK  UNNEEDED, same version is already published
machv2macOS 10.14.6 Mojave / x86_64  OK    OK    OK    OK  UNNEEDED, same version is already published
Package 178/493HostnameOS / ArchINSTALLBUILDCHECKBUILD BIN
GENESIS 2.24.0  (landing page)
Stephanie M. Gogarten
git_last_commit: aeeb5d0
git_last_commit_date: 2021-10-26 12:19:20 -0500
nebbiolo2Linux (Ubuntu 20.04.3 LTS) / x86_64  OK    OK    OK  UNNEEDED, same version is already published
tokay2Windows Server 2012 R2 Standard / x64  OK    OK    OK    OK  UNNEEDED, same version is already published
machv2macOS 10.14.6 Mojave / x86_64  OK    OK    OK    OK  UNNEEDED, same version is already published
Package 179/493HostnameOS / ArchINSTALLBUILDCHECKBUILD BIN
GeneStructureTools 1.14.0  (landing page)
Beth Signal
git_last_commit: 2d82a8c
git_last_commit_date: 2021-10-26 12:42:28 -0500
nebbiolo2Linux (Ubuntu 20.04.3 LTS) / x86_64  OK    OK    OK  UNNEEDED, same version is already published
tokay2Windows Server 2012 R2 Standard / x64  OK    OK    OK    OK  UNNEEDED, same version is already published
machv2macOS 10.14.6 Mojave / x86_64  OK    OK    OK    OK  UNNEEDED, same version is already published
Package 180/493HostnameOS / ArchINSTALLBUILDCHECKBUILD BIN
GenoGAM 2.12.0  (landing page)
Georg Stricker
git_last_commit: a819d51
git_last_commit_date: 2021-10-26 12:26:42 -0500
nebbiolo2Linux (Ubuntu 20.04.3 LTS) / x86_64  OK    ERROR  skipped
tokay2Windows Server 2012 R2 Standard / x64  OK    ERROR  skippedskipped
machv2macOS 10.14.6 Mojave / x86_64  OK    ERROR  skippedskipped
Package 181/493HostnameOS / ArchINSTALLBUILDCHECKBUILD BIN
genomation 1.26.0  (landing page)
Altuna Akalin , Vedran Franke
git_last_commit: b2f8d07
git_last_commit_date: 2021-10-26 12:17:54 -0500
nebbiolo2Linux (Ubuntu 20.04.3 LTS) / x86_64  OK    OK    WARNINGS  UNNEEDED, same version is already published
tokay2Windows Server 2012 R2 Standard / x64  OK    OK    WARNINGS    OK  UNNEEDED, same version is already published
machv2macOS 10.14.6 Mojave / x86_64  OK    OK    WARNINGS    OK  UNNEEDED, same version is already published
Package 182/493HostnameOS / ArchINSTALLBUILDCHECKBUILD BIN
genomeIntervals 1.50.0  (landing page)
Julien Gagneur
git_last_commit: d91ab47
git_last_commit_date: 2021-10-26 11:53:39 -0500
nebbiolo2Linux (Ubuntu 20.04.3 LTS) / x86_64  OK    OK    OK  UNNEEDED, same version is already published
tokay2Windows Server 2012 R2 Standard / x64  OK    OK    OK    OK  UNNEEDED, same version is already published
machv2macOS 10.14.6 Mojave / x86_64  OK    OK    OK    OK  UNNEEDED, same version is already published
Package 183/493HostnameOS / ArchINSTALLBUILDCHECKBUILD BIN
GenomicAlignments 1.30.0  (landing page)
Bioconductor Package Maintainer
git_last_commit: 2d2c5fc
git_last_commit_date: 2021-10-27 09:04:48 -0500
nebbiolo2Linux (Ubuntu 20.04.3 LTS) / x86_64  OK    OK    OK  UNNEEDED, same version is already published
tokay2Windows Server 2012 R2 Standard / x64  OK    OK    OK    OK  UNNEEDED, same version is already published
machv2macOS 10.14.6 Mojave / x86_64  OK    OK    OK    OK  UNNEEDED, same version is already published
Package 184/493HostnameOS / ArchINSTALLBUILDCHECKBUILD BIN
GenomicDataCommons 1.18.0  (landing page)
Sean Davis
git_last_commit: 48c12fe
git_last_commit_date: 2021-10-26 12:34:22 -0500
nebbiolo2Linux (Ubuntu 20.04.3 LTS) / x86_64  OK    OK    OK  UNNEEDED, same version is already published
tokay2Windows Server 2012 R2 Standard / x64  OK    OK    OK    OK  UNNEEDED, same version is already published
machv2macOS 10.14.6 Mojave / x86_64  OK    OK    OK    OK  UNNEEDED, same version is already published
Package 185/493HostnameOS / ArchINSTALLBUILDCHECKBUILD BIN
GenomicDistributions 1.2.0  (landing page)
Kristyna Kupkova
git_last_commit: 2a030e7
git_last_commit_date: 2021-10-26 13:06:06 -0500
nebbiolo2Linux (Ubuntu 20.04.3 LTS) / x86_64  OK    OK    OK  UNNEEDED, same version is already published
tokay2Windows Server 2012 R2 Standard / x64  OK    OK    OK    OK  UNNEEDED, same version is already published
machv2macOS 10.14.6 Mojave / x86_64  OK    OK    OK    OK  UNNEEDED, same version is already published
Package 186/493HostnameOS / ArchINSTALLBUILDCHECKBUILD BIN
GenomicFeatures 1.46.1  (landing page)
Bioconductor Package Maintainer
git_last_commit: 81a3bd9
git_last_commit_date: 2021-10-26 16:46:33 -0500
nebbiolo2Linux (Ubuntu 20.04.3 LTS) / x86_64  OK    OK    WARNINGS  UNNEEDED, same version is already published
tokay2Windows Server 2012 R2 Standard / x64  OK    OK    ERROR    OK  
machv2macOS 10.14.6 Mojave / x86_64  OK    OK    WARNINGS    OK  UNNEEDED, same version is already published
Package 187/493HostnameOS / ArchINSTALLBUILDCHECKBUILD BIN
GenomicFiles 1.30.0  (landing page)
Bioconductor Package Maintainer
git_last_commit: 6cde8a0
git_last_commit_date: 2021-10-26 12:13:21 -0500
nebbiolo2Linux (Ubuntu 20.04.3 LTS) / x86_64  OK    OK    OK  UNNEEDED, same version is already published
tokay2Windows Server 2012 R2 Standard / x64  OK    OK    OK    OK  UNNEEDED, same version is already published
machv2macOS 10.14.6 Mojave / x86_64  OK    OK    OK    OK  UNNEEDED, same version is already published
Package 188/493HostnameOS / ArchINSTALLBUILDCHECKBUILD BIN
GenomicInteractions 1.28.0  (landing page)
Liz Ing-Simmons
git_last_commit: a4e55c9
git_last_commit_date: 2021-10-26 12:16:08 -0500
nebbiolo2Linux (Ubuntu 20.04.3 LTS) / x86_64  OK    OK    OK  UNNEEDED, same version is already published
tokay2Windows Server 2012 R2 Standard / x64  OK    OK    OK    OK  UNNEEDED, same version is already published
machv2macOS 10.14.6 Mojave / x86_64  OK    OK    OK    OK  UNNEEDED, same version is already published
Package 189/493HostnameOS / ArchINSTALLBUILDCHECKBUILD BIN
GenomicOZone 1.8.0  (landing page)
Hua Zhong, Mingzhou Song
git_last_commit: e05e948
git_last_commit_date: 2021-10-26 12:53:34 -0500
nebbiolo2Linux (Ubuntu 20.04.3 LTS) / x86_64  OK    OK    OK  UNNEEDED, same version is already published
tokay2Windows Server 2012 R2 Standard / x64  OK    OK    OK    OK  UNNEEDED, same version is already published
machv2macOS 10.14.6 Mojave / x86_64  OK    OK    OK    OK  UNNEEDED, same version is already published
Package 190/493HostnameOS / ArchINSTALLBUILDCHECKBUILD BIN
GenomicScores 2.6.0  (landing page)
Robert Castelo
git_last_commit: e76213e
git_last_commit_date: 2021-10-26 12:34:39 -0500
nebbiolo2Linux (Ubuntu 20.04.3 LTS) / x86_64  OK    OK    OK  UNNEEDED, same version is already published
tokay2Windows Server 2012 R2 Standard / x64  OK    OK    OK    OK  UNNEEDED, same version is already published
machv2macOS 10.14.6 Mojave / x86_64  OK    OK    OK    OK  UNNEEDED, same version is already published
Package 191/493HostnameOS / ArchINSTALLBUILDCHECKBUILD BIN
GenomicTuples 1.28.0  (landing page)
Peter Hickey
git_last_commit: 6527f88
git_last_commit_date: 2021-10-26 12:16:49 -0500
nebbiolo2Linux (Ubuntu 20.04.3 LTS) / x86_64  OK    OK    OK  UNNEEDED, same version is already published
tokay2Windows Server 2012 R2 Standard / x64  OK    OK    OK    OK  UNNEEDED, same version is already published
machv2macOS 10.14.6 Mojave / x86_64  OK    OK    OK    OK  UNNEEDED, same version is already published
Package 192/493HostnameOS / ArchINSTALLBUILDCHECKBUILD BIN
genotypeeval 1.26.0  (landing page)
Jennifer Tom
git_last_commit: 14bef66
git_last_commit_date: 2021-10-26 12:21:35 -0500
nebbiolo2Linux (Ubuntu 20.04.3 LTS) / x86_64  OK    OK    WARNINGS  UNNEEDED, same version is already published
tokay2Windows Server 2012 R2 Standard / x64  OK    OK    WARNINGS    OK  UNNEEDED, same version is already published
machv2macOS 10.14.6 Mojave / x86_64  OK    OK    WARNINGS    OK  UNNEEDED, same version is already published
Package 193/493HostnameOS / ArchINSTALLBUILDCHECKBUILD BIN
GenVisR 1.26.0  (landing page)
Zachary Skidmore
git_last_commit: 9bd43fb
git_last_commit_date: 2021-10-26 12:24:58 -0500
nebbiolo2Linux (Ubuntu 20.04.3 LTS) / x86_64  OK    OK    OK  UNNEEDED, same version is already published
tokay2Windows Server 2012 R2 Standard / x64  OK    OK    ERROR    OK  
machv2macOS 10.14.6 Mojave / x86_64  OK    OK    ERROR    OK  
Package 194/493HostnameOS / ArchINSTALLBUILDCHECKBUILD BIN
ggbio 1.42.0  (landing page)
Michael Lawrence
git_last_commit: 3540047
git_last_commit_date: 2021-10-27 10:07:29 -0500
nebbiolo2Linux (Ubuntu 20.04.3 LTS) / x86_64  OK    OK    WARNINGS  UNNEEDED, same version is already published
tokay2Windows Server 2012 R2 Standard / x64  OK    OK    WARNINGS    OK  UNNEEDED, same version is already published
machv2macOS 10.14.6 Mojave / x86_64  OK    OK    WARNINGS    OK  UNNEEDED, same version is already published
Package 195/493HostnameOS / ArchINSTALLBUILDCHECKBUILD BIN
gmapR 1.36.0  (landing page)
Michael Lawrence
git_last_commit: 1e9cf9a
git_last_commit_date: 2021-10-26 12:03:53 -0500
nebbiolo2Linux (Ubuntu 20.04.3 LTS) / x86_64  OK    OK    WARNINGS  UNNEEDED, same version is already published
tokay2Windows Server 2012 R2 Standard / x64... NOT SUPPORTED ...
machv2macOS 10.14.6 Mojave / x86_64  OK    OK    WARNINGS    OK  UNNEEDED, same version is already published
Package 196/493HostnameOS / ArchINSTALLBUILDCHECKBUILD BIN
gmoviz 1.6.0  (landing page)
Kathleen Zeglinski
git_last_commit: 22e8f55
git_last_commit_date: 2021-10-26 12:58:11 -0500
nebbiolo2Linux (Ubuntu 20.04.3 LTS) / x86_64  OK    OK    OK  UNNEEDED, same version is already published
tokay2Windows Server 2012 R2 Standard / x64  OK    OK    OK    OK  UNNEEDED, same version is already published
machv2macOS 10.14.6 Mojave / x86_64  OK    OK    OK    OK  UNNEEDED, same version is already published
Package 197/493HostnameOS / ArchINSTALLBUILDCHECKBUILD BIN
GMRP 1.22.0  (landing page)
Yuan-De Tan
git_last_commit: f374007
git_last_commit_date: 2021-10-26 12:45:21 -0500
nebbiolo2Linux (Ubuntu 20.04.3 LTS) / x86_64  OK    OK    WARNINGS  UNNEEDED, same version is already published
tokay2Windows Server 2012 R2 Standard / x64  OK    OK    WARNINGS    OK  UNNEEDED, same version is already published
machv2macOS 10.14.6 Mojave / x86_64  OK    OK    WARNINGS    OK  UNNEEDED, same version is already published
Package 198/493HostnameOS / ArchINSTALLBUILDCHECKBUILD BIN
GOfuncR 1.14.0  (landing page)
Steffi Grote
git_last_commit: b3d445a
git_last_commit_date: 2021-10-26 12:40:30 -0500
nebbiolo2Linux (Ubuntu 20.04.3 LTS) / x86_64  OK    OK    OK  UNNEEDED, same version is already published
tokay2Windows Server 2012 R2 Standard / x64  OK    OK    OK    OK  UNNEEDED, same version is already published
machv2macOS 10.14.6 Mojave / x86_64  OK    OK    OK    OK  UNNEEDED, same version is already published
Package 199/493HostnameOS / ArchINSTALLBUILDCHECKBUILD BIN
GOTHiC 1.30.0  (landing page)
Borbala Mifsud
git_last_commit: a2e9c22
git_last_commit_date: 2021-10-26 12:52:52 -0500
nebbiolo2Linux (Ubuntu 20.04.3 LTS) / x86_64  OK    OK    OK  UNNEEDED, same version is already published
tokay2Windows Server 2012 R2 Standard / x64  OK    OK    OK    OK  UNNEEDED, same version is already published
machv2macOS 10.14.6 Mojave / x86_64  OK    OK    OK    OK  UNNEEDED, same version is already published
Package 200/493HostnameOS / ArchINSTALLBUILDCHECKBUILD BIN
gpart 1.12.0  (landing page)
Sun Ah Kim
git_last_commit: fea63e2
git_last_commit_date: 2021-10-26 12:46:57 -0500
nebbiolo2Linux (Ubuntu 20.04.3 LTS) / x86_64  OK    OK    OK  UNNEEDED, same version is already published
tokay2Windows Server 2012 R2 Standard / x64  OK    OK    OK    OK  UNNEEDED, same version is already published
machv2macOS 10.14.6 Mojave / x86_64  OK    OK    OK    OK  UNNEEDED, same version is already published
Package 201/493HostnameOS / ArchINSTALLBUILDCHECKBUILD BIN
GreyListChIP 1.26.0  (landing page)
Gordon Brown
git_last_commit: 51b06d0
git_last_commit_date: 2021-10-26 12:18:40 -0500
nebbiolo2Linux (Ubuntu 20.04.3 LTS) / x86_64  OK    OK    OK  UNNEEDED, same version is already published
tokay2Windows Server 2012 R2 Standard / x64  OK    OK    OK    OK  UNNEEDED, same version is already published
machv2macOS 10.14.6 Mojave / x86_64  OK    OK    OK    OK  UNNEEDED, same version is already published
Package 202/493HostnameOS / ArchINSTALLBUILDCHECKBUILD BIN
groHMM 1.28.0  (landing page)
Anusha Nagari , Tulip Nandu , W. Lee Kraus
git_last_commit: 6432fd9
git_last_commit_date: 2021-10-26 12:17:11 -0500
nebbiolo2Linux (Ubuntu 20.04.3 LTS) / x86_64  OK    OK    OK  UNNEEDED, same version is already published
tokay2Windows Server 2012 R2 Standard / x64  OK    OK    OK    OK  UNNEEDED, same version is already published
machv2macOS 10.14.6 Mojave / x86_64  OK    OK    OK    OK  UNNEEDED, same version is already published
Package 203/493HostnameOS / ArchINSTALLBUILDCHECKBUILD BIN
gtrellis 1.26.0  (landing page)
Zuguang Gu
git_last_commit: f2c3121
git_last_commit_date: 2021-10-26 12:19:28 -0500
nebbiolo2Linux (Ubuntu 20.04.3 LTS) / x86_64  OK    OK    OK  UNNEEDED, same version is already published
tokay2Windows Server 2012 R2 Standard / x64  OK    OK    OK    OK  UNNEEDED, same version is already published
machv2macOS 10.14.6 Mojave / x86_64  OK    OK    OK    OK  UNNEEDED, same version is already published
Package 204/493HostnameOS / ArchINSTALLBUILDCHECKBUILD BIN
GUIDEseq 1.24.0  (landing page)
Lihua Julie Zhu
git_last_commit: 17cac6b
git_last_commit_date: 2021-10-26 12:23:20 -0500
nebbiolo2Linux (Ubuntu 20.04.3 LTS) / x86_64  OK    OK    OK  UNNEEDED, same version is already published
tokay2Windows Server 2012 R2 Standard / x64  OK    OK    OK    OK  UNNEEDED, same version is already published
machv2macOS 10.14.6 Mojave / x86_64  OK    OK    OK    OK  UNNEEDED, same version is already published
Package 205/493HostnameOS / ArchINSTALLBUILDCHECKBUILD BIN
Guitar 2.10.0  (landing page)
Jia Meng
git_last_commit: cbc4814
git_last_commit_date: 2021-10-26 12:22:48 -0500
nebbiolo2Linux (Ubuntu 20.04.3 LTS) / x86_64  OK    OK    OK  UNNEEDED, same version is already published
tokay2Windows Server 2012 R2 Standard / x64  OK    OK    OK    OK  UNNEEDED, same version is already published
machv2macOS 10.14.6 Mojave / x86_64  OK    OK    OK    OK  UNNEEDED, same version is already published
Package 206/493HostnameOS / ArchINSTALLBUILDCHECKBUILD BIN
Gviz 1.38.0  (landing page)
Robert Ivanek
git_last_commit: 2091331
git_last_commit_date: 2021-10-26 12:02:00 -0500
nebbiolo2Linux (Ubuntu 20.04.3 LTS) / x86_64  OK    OK    OK  UNNEEDED, same version is already published
tokay2Windows Server 2012 R2 Standard / x64  OK    OK    OK    OK  UNNEEDED, same version is already published
machv2macOS 10.14.6 Mojave / x86_64  OK    OK    OK    OK  UNNEEDED, same version is already published
Package 207/493HostnameOS / ArchINSTALLBUILDCHECKBUILD BIN
gwascat 2.26.0  (landing page)
VJ Carey
git_last_commit: 4098842
git_last_commit_date: 2021-10-26 12:02:07 -0500
nebbiolo2Linux (Ubuntu 20.04.3 LTS) / x86_64  OK    OK    OK  UNNEEDED, same version is already published
tokay2Windows Server 2012 R2 Standard / x64  OK    OK    OK    OK  UNNEEDED, same version is already published
machv2macOS 10.14.6 Mojave / x86_64  OK    OK    OK    OK  UNNEEDED, same version is already published
Package 208/493HostnameOS /&nb