Name | Last modified | Size | Description | |
---|---|---|---|---|
Parent Directory | - | |||
buildbin-out.txt | 14-Apr-2022 01:06 | 4.5K | ||
buildbin-summary.dcf | 14-Apr-2022 01:06 | 614 | ||
buildsrc-out.txt | 14-Apr-2022 01:06 | 909 | ||
buildsrc-summary.dcf | 14-Apr-2022 01:06 | 508 | ||
checksrc-out.txt | 14-Apr-2022 01:06 | 4.3K | ||
checksrc-summary.dcf | 14-Apr-2022 01:06 | 512 | ||
install-out.txt | 14-Apr-2022 01:06 | 5.5K | ||
install-summary.dcf | 14-Apr-2022 01:06 | 752 | ||