Name | Last modified | Size | Description | |
---|---|---|---|---|
Parent Directory | - | |||
buildsrc-out.txt | 14-Apr-2022 01:05 | 857 | ||
buildsrc-summary.dcf | 14-Apr-2022 01:05 | 454 | ||
checksrc-out.txt | 14-Apr-2022 01:05 | 3.4K | ||
checksrc-summary.dcf | 14-Apr-2022 01:05 | 474 | ||
install-out.txt | 14-Apr-2022 01:05 | 1.0K | ||
install-summary.dcf | 14-Apr-2022 01:05 | 284 | ||