Index of /checkResults/3.14/bioc-LATEST/GenoGAM/raw-results/tokay2
Name
Last modified
Size
Description
Parent Directory
-
buildsrc-out.txt
14-Apr-2022 01:06
70K
buildsrc-summary.dcf
14-Apr-2022 01:06
375
install-out.txt
14-Apr-2022 01:06
6.9K
install-summary.dcf
14-Apr-2022 01:06
641