![]() | Name | Last modified | Size | Description |
---|---|---|---|---|
![]() | Parent Directory | - | ||
![]() | install-summary.dcf | 14-Apr-2022 01:05 | 267 | |
![]() | buildsrc-summary.dcf | 14-Apr-2022 01:05 | 429 | |
![]() | checksrc-summary.dcf | 14-Apr-2022 01:05 | 447 | |
![]() | buildsrc-out.txt | 14-Apr-2022 01:05 | 885 | |
![]() | install-out.txt | 14-Apr-2022 01:05 | 1.8K | |
![]() | checksrc-out.txt | 14-Apr-2022 01:05 | 6.4K | |