Name | Last modified | Size | Description | |
---|---|---|---|---|
Parent Directory | - | |||
buildbin-out.txt | 14-Apr-2022 01:08 | 2.0K | ||
buildbin-summary.dcf | 14-Apr-2022 01:08 | 554 | ||
checksrc-summary.dcf | 14-Apr-2022 01:08 | 470 | ||
checksrc-out.txt | 14-Apr-2022 01:08 | 5.1K | ||
buildsrc-summary.dcf | 14-Apr-2022 01:08 | 439 | ||
buildsrc-out.txt | 14-Apr-2022 01:08 | 895 | ||
install-summary.dcf | 14-Apr-2022 01:08 | 277 | ||
install-out.txt | 14-Apr-2022 01:08 | 1.8K | ||