Name | Last modified | Size | Description | |
---|---|---|---|---|
Parent Directory | - | |||
install-summary.dcf | 14-Apr-2022 01:06 | 668 | ||
install-out.txt | 14-Apr-2022 01:06 | 3.9K | ||
checksrc-summary.dcf | 14-Apr-2022 01:06 | 474 | ||
checksrc-out.txt | 14-Apr-2022 01:06 | 4.0K | ||
buildsrc-summary.dcf | 14-Apr-2022 01:06 | 471 | ||
buildsrc-out.txt | 14-Apr-2022 01:06 | 860 | ||
buildbin-summary.dcf | 14-Apr-2022 01:06 | 557 | ||
buildbin-out.txt | 14-Apr-2022 01:06 | 3.2K | ||