Name | Last modified | Size | Description | |
---|---|---|---|---|
Parent Directory | - | |||
install-summary.dcf | 14-Apr-2022 01:06 | 641 | ||
install-out.txt | 14-Apr-2022 01:06 | 5.4K | ||
checksrc-summary.dcf | 14-Apr-2022 01:06 | 467 | ||
checksrc-out.txt | 14-Apr-2022 01:06 | 5.9K | ||
buildsrc-summary.dcf | 14-Apr-2022 01:06 | 459 | ||
buildsrc-out.txt | 14-Apr-2022 01:06 | 845 | ||
buildbin-summary.dcf | 14-Apr-2022 01:06 | 537 | ||
buildbin-out.txt | 14-Apr-2022 01:06 | 4.6K | ||