Name | Last modified | Size | Description | |
---|---|---|---|---|
Parent Directory | - | |||
buildbin-summary.dcf | 14-Apr-2022 01:06 | 545 | ||
buildbin-out.txt | 14-Apr-2022 01:06 | 1.9K | ||
checksrc-summary.dcf | 14-Apr-2022 01:06 | 466 | ||
checksrc-out.txt | 14-Apr-2022 01:06 | 6.1K | ||
buildsrc-summary.dcf | 14-Apr-2022 01:06 | 463 | ||
buildsrc-out.txt | 14-Apr-2022 01:06 | 910 | ||
install-summary.dcf | 14-Apr-2022 01:06 | 650 | ||
install-out.txt | 14-Apr-2022 01:06 | 2.7K | ||