Name | Last modified | Size | Description | |
---|---|---|---|---|
Parent Directory | - | |||
buildbin-summary.dcf | 14-Apr-2022 01:08 | 534 | ||
buildbin-out.txt | 14-Apr-2022 01:08 | 1.2K | ||
checksrc-summary.dcf | 14-Apr-2022 01:08 | 448 | ||
checksrc-out.txt | 14-Apr-2022 01:08 | 5.5K | ||
buildsrc-summary.dcf | 14-Apr-2022 01:08 | 431 | ||
buildsrc-out.txt | 14-Apr-2022 01:08 | 883 | ||
install-summary.dcf | 14-Apr-2022 01:08 | 271 | ||
install-out.txt | 14-Apr-2022 01:08 | 1.0K | ||