Name | Last modified | Size | Description | |
---|---|---|---|---|
Parent Directory | - | |||
buildbin-summary.dcf | 14-Apr-2022 01:06 | 521 | ||
buildbin-out.txt | 14-Apr-2022 01:06 | 3.7K | ||
checksrc-summary.dcf | 14-Apr-2022 01:06 | 450 | ||
checksrc-out.txt | 14-Apr-2022 01:06 | 4.5K | ||
buildsrc-out.txt | 14-Apr-2022 01:06 | 936 | ||
buildsrc-summary.dcf | 14-Apr-2022 01:06 | 446 | ||
install-summary.dcf | 14-Apr-2022 01:06 | 614 | ||
install-out.txt | 14-Apr-2022 01:06 | 4.4K | ||