![]() | Name | Last modified | Size | Description |
---|---|---|---|---|
![]() | Parent Directory | - | ||
![]() | buildbin-out.txt | 14-Apr-2022 01:08 | 2.9K | |
![]() | buildbin-summary.dcf | 14-Apr-2022 01:08 | 512 | |
![]() | buildsrc-out.txt | 14-Apr-2022 01:08 | 882 | |
![]() | buildsrc-summary.dcf | 14-Apr-2022 01:08 | 419 | |
![]() | checksrc-out.txt | 14-Apr-2022 01:08 | 3.2K | |
![]() | checksrc-summary.dcf | 14-Apr-2022 01:08 | 432 | |
![]() | install-out.txt | 14-Apr-2022 01:08 | 2.1K | |
![]() | install-summary.dcf | 14-Apr-2022 01:08 | 263 | |