Name | Last modified | Size | Description | |
---|---|---|---|---|
Parent Directory | - | |||
install-summary.dcf | 14-Apr-2022 01:08 | 269 | ||
install-out.txt | 14-Apr-2022 01:08 | 1.0K | ||
checksrc-summary.dcf | 14-Apr-2022 01:08 | 444 | ||
checksrc-out.txt | 14-Apr-2022 01:08 | 3.2K | ||
buildsrc-summary.dcf | 14-Apr-2022 01:08 | 428 | ||
buildsrc-out.txt | 14-Apr-2022 01:08 | 879 | ||
buildbin-summary.dcf | 14-Apr-2022 01:08 | 528 | ||
buildbin-out.txt | 14-Apr-2022 01:08 | 1.2K | ||