![]() | Name | Last modified | Size | Description |
---|---|---|---|---|
![]() | Parent Directory | - | ||
![]() | buildbin-out.txt | 14-Apr-2022 01:06 | 1.6K | |
![]() | buildbin-summary.dcf | 14-Apr-2022 01:06 | 549 | |
![]() | buildsrc-out.txt | 14-Apr-2022 01:06 | 855 | |
![]() | buildsrc-summary.dcf | 14-Apr-2022 01:06 | 466 | |
![]() | checksrc-out.txt | 14-Apr-2022 01:06 | 4.2K | |
![]() | checksrc-summary.dcf | 14-Apr-2022 01:06 | 475 | |
![]() | install-out.txt | 14-Apr-2022 01:06 | 2.5K | |
![]() | install-summary.dcf | 14-Apr-2022 01:06 | 658 | |