Name | Last modified | Size | Description | |
---|---|---|---|---|
Parent Directory | - | |||
install-summary.dcf | 14-Apr-2022 01:05 | 267 | ||
install-out.txt | 14-Apr-2022 01:05 | 967 | ||
checksrc-summary.dcf | 31-Mar-2022 01:04 | 440 | ||
checksrc-out.txt | 31-Mar-2022 01:04 | 6.3K | ||
buildsrc-summary.dcf | 14-Apr-2022 01:05 | 341 | ||
buildsrc-out.txt | 14-Apr-2022 01:05 | 1.9K | ||