Back to Multiple platform build/check report for BioC 3.14
ABCDE[F]GHIJKLMNOPQRSTUVWXYZ

This page was generated on 2022-01-19 13:06:36 -0500 (Wed, 19 Jan 2022).

HostnameOSArch (*)R versionInstalled pkgs
nebbiolo2Linux (Ubuntu 20.04.4 LTS)x86_644.1.2 (2021-11-01) -- "Bird Hippie" 4328
tokay2Windows Server 2012 R2 Standardx644.1.2 (2021-11-01) -- "Bird Hippie" 4077
machv2macOS 10.14.6 Mojavex86_644.1.2 (2021-11-01) -- "Bird Hippie" 4138
Click on any hostname to see more info about the system (e.g. compilers)      (*) as reported by 'uname -p', except on Windows and Mac OS X

BUILD BIN results for FoldGO on tokay2


To the developers/maintainers of the FoldGO package:
- Please allow up to 24 hours (and sometimes 48 hours) for your latest push to git@git.bioconductor.org:packages/FoldGO.git to
reflect on this report. See How and When does the builder pull? When will my changes propagate? here for more information.
- Make sure to use the following settings in order to reproduce any error or warning you see on this page.

raw results

Package 682/2083HostnameOS / ArchINSTALLBUILDCHECKBUILD BIN
FoldGO 1.12.0  (landing page)
Daniil Wiebe
Snapshot Date: 2022-01-18 01:55:07 -0500 (Tue, 18 Jan 2022)
git_url: https://git.bioconductor.org/packages/FoldGO
git_branch: RELEASE_3_14
git_last_commit: 7f8ce76
git_last_commit_date: 2021-10-26 12:46:48 -0500 (Tue, 26 Oct 2021)
nebbiolo2Linux (Ubuntu 20.04.4 LTS) / x86_64  OK    OK    OK  UNNEEDED, same version is already published
tokay2Windows Server 2012 R2 Standard / x64  OK    OK    OK    OK  UNNEEDED, same version is already published
machv2macOS 10.14.6 Mojave / x86_64  OK    OK    OK    OK  UNNEEDED, same version is already published

Summary

Package: FoldGO
Version: 1.12.0
Command: rm -rf FoldGO.buildbin-libdir && mkdir FoldGO.buildbin-libdir && C:\Users\biocbuild\bbs-3.14-bioc\R\bin\R.exe CMD INSTALL --merge-multiarch --build --library=FoldGO.buildbin-libdir FoldGO_1.12.0.tar.gz
StartedAt: 2022-01-19 05:51:39 -0500 (Wed, 19 Jan 2022)
EndedAt: 2022-01-19 05:52:19 -0500 (Wed, 19 Jan 2022)
EllapsedTime: 40.6 seconds
RetCode: 0
Status:   OK  
PackageFile: FoldGO_1.12.0.zip
PackageFileSize: 1.271 MiB

Command output

##############################################################################
##############################################################################
###
### Running command:
###
###   rm -rf FoldGO.buildbin-libdir && mkdir FoldGO.buildbin-libdir && C:\Users\biocbuild\bbs-3.14-bioc\R\bin\R.exe CMD INSTALL --merge-multiarch --build --library=FoldGO.buildbin-libdir FoldGO_1.12.0.tar.gz
###
##############################################################################
##############################################################################



install for i386

* installing *source* package 'FoldGO' ...
** using staged installation
** R
** data
*** moving datasets to lazyload DB

** inst
** byte-compile and prepare package for lazy loading
in method for 'getAnnotation' with signature '"MgsaSets"': no definition for class "MgsaSets"
** help
*** installing help indices
  converting help for package 'FoldGO'
    finding HTML links ... done
    examdata_bg                             html  
    examdata_degs                           html  
    examdata_objs                           html  
    fagroupstopgo_class                     html  
    foldspectest_class                      html  
    gafreader_class                         html  
    genegroups_class                        html  
    getAnnotation                           html  
    getWholeIntName                         html  
    plot-FoldSpecTest-ANY-method            html  
    rna_seq_data                            html  
** building package indices
** installing vignettes
** testing if installed package can be loaded from temporary location
** testing if installed package can be loaded from final location
** testing if installed package keeps a record of temporary installation path

install for x64

* installing *source* package 'FoldGO' ...
** testing if installed package can be loaded
* MD5 sums
packaged installation of 'FoldGO' as FoldGO_1.12.0.zip
* DONE (FoldGO)