![]() | Name | Last modified | Size | Description |
---|---|---|---|---|
![]() | Parent Directory | - | ||
![]() | buildbin-out.txt | 14-Apr-2022 01:06 | 2.0K | |
![]() | buildbin-summary.dcf | 14-Apr-2022 01:06 | 533 | |
![]() | buildsrc-out.txt | 14-Apr-2022 01:06 | 891 | |
![]() | buildsrc-summary.dcf | 14-Apr-2022 01:06 | 455 | |
![]() | checksrc-out.txt | 14-Apr-2022 01:06 | 4.0K | |
![]() | checksrc-summary.dcf | 14-Apr-2022 01:06 | 458 | |
![]() | install-out.txt | 14-Apr-2022 01:06 | 2.7K | |
![]() | install-summary.dcf | 14-Apr-2022 01:06 | 632 | |