Name | Last modified | Size | Description | |
---|---|---|---|---|
Parent Directory | - | |||
install-out.txt | 14-Apr-2022 01:08 | 1.6K | ||
install-summary.dcf | 14-Apr-2022 01:08 | 268 | ||
buildsrc-out.txt | 14-Apr-2022 01:08 | 885 | ||
buildsrc-summary.dcf | 14-Apr-2022 01:08 | 426 | ||
checksrc-out.txt | 14-Apr-2022 01:08 | 5.0K | ||
checksrc-summary.dcf | 14-Apr-2022 01:08 | 442 | ||
buildbin-out.txt | 14-Apr-2022 01:08 | 2.4K | ||
buildbin-summary.dcf | 14-Apr-2022 01:08 | 527 | ||