Name | Last modified | Size | Description | |
---|---|---|---|---|
Parent Directory | - | |||
install-out.txt | 14-Apr-2022 01:07 | 3.4K | ||
install-summary.dcf | 14-Apr-2022 01:07 | 279 | ||
buildsrc-out.txt | 14-Apr-2022 01:07 | 2.4K | ||
buildsrc-summary.dcf | 14-Apr-2022 01:07 | 443 | ||
checksrc-out.txt | 14-Apr-2022 01:07 | 4.5K | ||
checksrc-summary.dcf | 14-Apr-2022 01:07 | 464 | ||
buildbin-out.txt | 14-Apr-2022 01:07 | 4.3K | ||
buildbin-summary.dcf | 14-Apr-2022 01:07 | 560 | ||