Back to Multiple platform build/check report for BioC 3.14
ABCDE[F]GHIJKLMNOPQRSTUVWXYZ

This page was generated on 2021-10-22 12:04:25 -0400 (Fri, 22 Oct 2021).

BUILD BIN results for FEAST on riesling1

To the developers/maintainers of the FEAST package:
- Please allow up to 24 hours (and sometimes 48 hours) for your latest push to git@git.bioconductor.org:packages/FEAST.git to
reflect on this report. See How and When does the builder pull? When will my changes propagate? here for more information.
- Make sure to use the following settings in order to reproduce any error or warning you see on this page.

raw results

Package 630/2075HostnameOS / ArchINSTALLBUILDCHECKBUILD BIN
FEAST 1.1.2  (landing page)
Kenong Su
Snapshot Date: 2021-10-21 14:50:08 -0400 (Thu, 21 Oct 2021)
git_url: https://git.bioconductor.org/packages/FEAST
git_branch: master
git_last_commit: 691a46d
git_last_commit_date: 2021-09-09 00:50:26 -0400 (Thu, 09 Sep 2021)
nebbiolo2Linux (Ubuntu 20.04.2 LTS) / x86_64  OK    OK    OK  UNNEEDED, same version is already published
riesling1Windows Server 2019 Standard / x64  OK    OK    OK    OK  UNNEEDED, same version is already published
merida1macOS 10.14.6 Mojave / x86_64  OK    OK    OK    NA  

Summary

Package: FEAST
Version: 1.1.2
Command: rm -rf FEAST.buildbin-libdir && mkdir FEAST.buildbin-libdir && D:\biocbuild\bbs-3.14-bioc\R\bin\R.exe CMD INSTALL --merge-multiarch --build --library=FEAST.buildbin-libdir FEAST_1.1.2.tar.gz
StartedAt: 2021-10-22 05:25:02 -0400 (Fri, 22 Oct 2021)
EndedAt: 2021-10-22 05:29:24 -0400 (Fri, 22 Oct 2021)
EllapsedTime: 262.1 seconds
RetCode: 0
Status:   OK  
PackageFile: FEAST_1.1.2.zip
PackageFileSize: 4.506 MiB

Command output

##############################################################################
##############################################################################
###
### Running command:
###
###   rm -rf FEAST.buildbin-libdir && mkdir FEAST.buildbin-libdir && D:\biocbuild\bbs-3.14-bioc\R\bin\R.exe CMD INSTALL --merge-multiarch --build --library=FEAST.buildbin-libdir FEAST_1.1.2.tar.gz
###
##############################################################################
##############################################################################



install for i386

* installing *source* package 'FEAST' ...
** using staged installation
** libs
"C:/rtools40/mingw32/bin/"gcc  -I"D:/biocbuild/bbs-3.14-bioc/R/include" -DNDEBUG     -I"C:/extsoft/include"     -O2 -Wall  -std=gnu99 -mfpmath=sse -msse2 -mstackrealign  -c cal_3_metrics.c -o cal_3_metrics.o
C:/rtools40/mingw32/bin/gcc -shared -s -static-libgcc -o FEAST.dll tmp.def cal_3_metrics.o -LC:/extsoft/lib/i386 -LC:/extsoft/lib -LD:/biocbuild/bbs-3.14-bioc/R/bin/i386 -lR
installing to D:/biocbuild/bbs-3.14-bioc/meat/FEAST.buildbin-libdir/00LOCK-FEAST/00new/FEAST/libs/i386
** R
** data
*** moving datasets to lazyload DB
** inst
** byte-compile and prepare package for lazy loading
** help
*** installing help indices
  converting help for package 'FEAST'
    finding HTML links ... done
    Consensus                               html  
    FEAST                                   html  
    FEAST_fast                              html  
    Norm_Y                                  html  
    Purity                                  html  
    SC3_Clust                               html  
    Select_Model_short_SC3                  html  
    Select_Model_short_TSCAN                html  
    TSCAN_Clust                             html  
    Visual_Rslt                             html  
    Y                                       html  
    align_CellType                          html  
    cal_F2                                  html  
    cal_Fisher2                             html  
    cal_MSE                                 html  
    cal_metrics                             html  
    eval_Cluster                            html  
    process_Y                               html  
    setUp_BPPARAM                           html  
    trueclass                               html  
    vector2matrix                           html  
** building package indices
** installing vignettes
** testing if installed package can be loaded from temporary location
** testing if installed package can be loaded from final location
** testing if installed package keeps a record of temporary installation path

install for x64

* installing *source* package 'FEAST' ...
** libs
"C:/rtools40/mingw64/bin/"gcc  -I"D:/biocbuild/bbs-3.14-bioc/R/include" -DNDEBUG     -I"C:/extsoft/include"     -O2 -Wall  -std=gnu99 -mfpmath=sse -msse2 -mstackrealign  -c cal_3_metrics.c -o cal_3_metrics.o
C:/rtools40/mingw64/bin/gcc -shared -s -static-libgcc -o FEAST.dll tmp.def cal_3_metrics.o -LC:/extsoft/lib/x64 -LC:/extsoft/lib -LD:/biocbuild/bbs-3.14-bioc/R/bin/x64 -lR
installing to D:/biocbuild/bbs-3.14-bioc/meat/FEAST.buildbin-libdir/FEAST/libs/x64
** testing if installed package can be loaded
* MD5 sums
packaged installation of 'FEAST' as FEAST_1.1.2.zip
* DONE (FEAST)