![]() | Name | Last modified | Size | Description |
---|---|---|---|---|
![]() | Parent Directory | - | ||
![]() | install-summary.dcf | 14-Apr-2022 01:07 | 280 | |
![]() | buildsrc-summary.dcf | 14-Apr-2022 01:07 | 443 | |
![]() | checksrc-summary.dcf | 14-Apr-2022 01:07 | 466 | |
![]() | buildbin-summary.dcf | 14-Apr-2022 01:07 | 563 | |
![]() | buildsrc-out.txt | 14-Apr-2022 01:07 | 839 | |
![]() | install-out.txt | 14-Apr-2022 01:07 | 1.0K | |
![]() | buildbin-out.txt | 14-Apr-2022 01:07 | 1.2K | |
![]() | checksrc-out.txt | 14-Apr-2022 01:07 | 3.5K | |