Name | Last modified | Size | Description | |
---|---|---|---|---|
Parent Directory | - | |||
install-summary.dcf | 14-Apr-2022 01:06 | 713 | ||
install-out.txt | 14-Apr-2022 01:06 | 5.1K | ||
checksrc-summary.dcf | 14-Apr-2022 01:06 | 494 | ||
checksrc-out.txt | 14-Apr-2022 01:06 | 5.0K | ||
buildsrc-summary.dcf | 14-Apr-2022 01:06 | 492 | ||
buildsrc-out.txt | 14-Apr-2022 01:06 | 969 | ||
buildbin-summary.dcf | 14-Apr-2022 01:06 | 587 | ||
buildbin-out.txt | 14-Apr-2022 01:06 | 4.0K | ||