![]() | Name | Last modified | Size | Description |
---|---|---|---|---|
![]() | Parent Directory | - | ||
![]() | install-out.txt | 14-Apr-2022 01:07 | 1.0K | |
![]() | install-summary.dcf | 14-Apr-2022 01:07 | 265 | |
![]() | buildsrc-out.txt | 14-Apr-2022 01:07 | 848 | |
![]() | buildsrc-summary.dcf | 14-Apr-2022 01:07 | 422 | |
![]() | checksrc-out.txt | 14-Apr-2022 01:07 | 4.1K | |
![]() | checksrc-summary.dcf | 14-Apr-2022 01:07 | 437 | |
![]() | buildbin-out.txt | 14-Apr-2022 01:07 | 1.1K | |
![]() | buildbin-summary.dcf | 14-Apr-2022 01:07 | 519 | |