Name | Last modified | Size | Description | |
---|---|---|---|---|
Parent Directory | - | |||
buildbin-out.txt | 14-Apr-2022 01:06 | 3.2K | ||
buildbin-summary.dcf | 14-Apr-2022 01:06 | 563 | ||
buildsrc-out.txt | 14-Apr-2022 01:06 | 957 | ||
buildsrc-summary.dcf | 14-Apr-2022 01:06 | 474 | ||
checksrc-out.txt | 14-Apr-2022 01:06 | 7.5K | ||
checksrc-summary.dcf | 14-Apr-2022 01:06 | 483 | ||
install-out.txt | 14-Apr-2022 01:06 | 4.0K | ||
install-summary.dcf | 14-Apr-2022 01:06 | 676 | ||