![]() | Name | Last modified | Size | Description |
---|---|---|---|---|
![]() | Parent Directory | - | ||
![]() | install-out.txt | 14-Apr-2022 01:05 | 912 | |
![]() | install-summary.dcf | 14-Apr-2022 01:05 | 257 | |
![]() | buildsrc-out.txt | 14-Apr-2022 01:05 | 730 | |
![]() | buildsrc-summary.dcf | 14-Apr-2022 01:05 | 413 | |
![]() | checksrc-out.txt | 14-Apr-2022 01:05 | 4.0K | |
![]() | checksrc-summary.dcf | 14-Apr-2022 01:05 | 419 | |