Index of /checkResults/3.14/bioc-LATEST/Director/raw-results/tokay2
Name
Last modified
Size
Description
Parent Directory
-
buildsrc-out.txt
14-Apr-2022 01:06
685
buildsrc-summary.dcf
14-Apr-2022 01:06
384
install-out.txt
14-Apr-2022 01:06
2.6K
install-summary.dcf
14-Apr-2022 01:06
649