Name | Last modified | Size | Description | |
---|---|---|---|---|
Parent Directory | - | |||
buildbin-out.txt | 14-Apr-2022 01:06 | 346K | ||
buildbin-summary.dcf | 14-Apr-2022 01:06 | 564 | ||
buildsrc-out.txt | 14-Apr-2022 01:06 | 957 | ||
buildsrc-summary.dcf | 14-Apr-2022 01:06 | 475 | ||
checksrc-out.txt | 14-Apr-2022 01:06 | 5.5K | ||
checksrc-summary.dcf | 14-Apr-2022 01:06 | 477 | ||
install-out.txt | 14-Apr-2022 01:06 | 346K | ||
install-summary.dcf | 14-Apr-2022 01:06 | 677 | ||