Name | Last modified | Size | Description | |
---|---|---|---|---|
Parent Directory | - | |||
checksrc-out.txt | 06-Jan-2022 03:07 | 4.7K | ||
checksrc-summary.dcf | 06-Jan-2022 03:07 | 464 | ||
buildbin-out.txt | 06-Jan-2022 03:07 | 2.7K | ||
buildbin-summary.dcf | 06-Jan-2022 03:07 | 533 | ||
install-out.txt | 14-Apr-2022 01:06 | 3.5K | ||
install-summary.dcf | 14-Apr-2022 01:06 | 631 | ||
buildsrc-out.txt | 14-Apr-2022 01:06 | 5.7K | ||
buildsrc-summary.dcf | 14-Apr-2022 01:06 | 372 | ||