Name | Last modified | Size | Description | |
---|---|---|---|---|
Parent Directory | - | |||
checksrc-out.txt | 06-Jan-2022 03:06 | 3.6K | ||
checksrc-summary.dcf | 06-Jan-2022 03:06 | 420 | ||
install-out.txt | 14-Apr-2022 01:05 | 944 | ||
install-summary.dcf | 14-Apr-2022 01:05 | 257 | ||
buildsrc-summary.dcf | 14-Apr-2022 01:05 | 331 | ||
buildsrc-out.txt | 14-Apr-2022 01:05 | 5.6K | ||