Name | Last modified | Size | Description | |
---|---|---|---|---|
Parent Directory | - | |||
buildbin-out.txt | 14-Apr-2022 01:06 | 152K | ||
buildbin-summary.dcf | 14-Apr-2022 01:06 | 531 | ||
checksrc-summary.dcf | 14-Apr-2022 01:06 | 462 | ||
checksrc-out.txt | 14-Apr-2022 01:06 | 12K | ||
buildsrc-summary.dcf | 14-Apr-2022 01:06 | 453 | ||
buildsrc-out.txt | 14-Apr-2022 01:06 | 1.3K | ||
install-summary.dcf | 14-Apr-2022 01:06 | 626 | ||
install-out.txt | 14-Apr-2022 01:06 | 153K | ||