Name | Last modified | Size | Description | |
---|---|---|---|---|
Parent Directory | - | |||
install-summary.dcf | 14-Apr-2022 01:06 | 748 | ||
install-out.txt | 14-Apr-2022 01:06 | 2.9K | ||
checksrc-summary.dcf | 14-Apr-2022 01:06 | 509 | ||
checksrc-out.txt | 14-Apr-2022 01:06 | 3.9K | ||
buildsrc-summary.dcf | 14-Apr-2022 01:06 | 506 | ||
buildsrc-out.txt | 14-Apr-2022 01:06 | 905 | ||
buildbin-summary.dcf | 14-Apr-2022 01:06 | 611 | ||
buildbin-out.txt | 14-Apr-2022 01:06 | 2.2K | ||