Back to Multiple platform build/check report for BioC 3.14
AB[C]DEFGHIJKLMNOPQRSTUVWXYZ

This page was generated on 2021-10-23 14:06:21 -0400 (Sat, 23 Oct 2021).

INSTALL results for CluMSID on riesling1

To the developers/maintainers of the CluMSID package:
- Please allow up to 24 hours (and sometimes 48 hours) for your latest push to git@git.bioconductor.org:packages/CluMSID.git to
reflect on this report. See How and When does the builder pull? When will my changes propagate? here for more information.
- Make sure to use the following settings in order to reproduce any error or warning you see on this page.

raw results

Package 336/2083HostnameOS / ArchINSTALLBUILDCHECKBUILD BIN
CluMSID 1.9.0  (landing page)
Tobias Depke
Snapshot Date: 2021-10-22 14:50:11 -0400 (Fri, 22 Oct 2021)
git_url: https://git.bioconductor.org/packages/CluMSID
git_branch: master
git_last_commit: 274ee44
git_last_commit_date: 2021-05-19 12:40:12 -0400 (Wed, 19 May 2021)
nebbiolo2Linux (Ubuntu 20.04.2 LTS) / x86_64  OK    OK    OK  UNNEEDED, same version is already published
riesling1Windows Server 2019 Standard / x64  OK    OK    OK    OK  UNNEEDED, same version is already published
merida1macOS 10.14.6 Mojave / x86_64  OK    OK    OK    OK  UNNEEDED, same version is already published

Summary

Package: CluMSID
Version: 1.9.0
Command: C:\cygwin\bin\curl.exe -O http://155.52.207.166/BBS/3.14/bioc/src/contrib/CluMSID_1.9.0.tar.gz && rm -rf CluMSID.buildbin-libdir && mkdir CluMSID.buildbin-libdir && D:\biocbuild\bbs-3.14-bioc\R\bin\R.exe CMD INSTALL --merge-multiarch --build --library=CluMSID.buildbin-libdir CluMSID_1.9.0.tar.gz && D:\biocbuild\bbs-3.14-bioc\R\bin\R.exe CMD INSTALL CluMSID_1.9.0.zip && rm CluMSID_1.9.0.tar.gz CluMSID_1.9.0.zip
StartedAt: 2021-10-22 18:14:28 -0400 (Fri, 22 Oct 2021)
EndedAt: 2021-10-22 18:17:13 -0400 (Fri, 22 Oct 2021)
EllapsedTime: 165.7 seconds
RetCode: 0
Status:   OK  

Command output

##############################################################################
##############################################################################
###
### Running command:
###
###   C:\cygwin\bin\curl.exe -O http://155.52.207.166/BBS/3.14/bioc/src/contrib/CluMSID_1.9.0.tar.gz && rm -rf CluMSID.buildbin-libdir && mkdir CluMSID.buildbin-libdir && D:\biocbuild\bbs-3.14-bioc\R\bin\R.exe CMD INSTALL --merge-multiarch --build --library=CluMSID.buildbin-libdir CluMSID_1.9.0.tar.gz && D:\biocbuild\bbs-3.14-bioc\R\bin\R.exe CMD INSTALL CluMSID_1.9.0.zip && rm CluMSID_1.9.0.tar.gz CluMSID_1.9.0.zip
###
##############################################################################
##############################################################################


  % Total    % Received % Xferd  Average Speed   Time    Time     Time  Current
                                 Dload  Upload   Total   Spent    Left  Speed

  0     0    0     0    0     0      0      0 --:--:-- --:--:-- --:--:--     0
100 50972  100 50972    0     0   325k      0 --:--:-- --:--:-- --:--:--  325k

install for i386

* installing *source* package 'CluMSID' ...
** using staged installation
** R
** byte-compile and prepare package for lazy loading
** help
*** installing help indices
  converting help for package 'CluMSID'
    finding HTML links ... done
    Featurelist                             html  
    HCplot                                  html  
    HCtbl                                   html  
    MDSplot                                 html  
    MS2spectrum-class                       html  
    OPTICSplot                              html  
    OPTICStbl                               html  
    accessors                               html  
    addAnnotations                          html  
    as.MS2spectrum                          html  
    cossim                                  html  
    distanceMatrix                          html  
    extractMS2spectra                       html  
    extractPseudospectra                    html  
    findFragment                            html  
    findNL                                  html  
    getSimilarities                         html  
    getSpectrum                             html  
    mergeMS2spectra                         html  
    mergeSpecList                           html  
    mergeTolerance                          html  
    networkplot                             html  
    neutrallossPatterns                     html  
    pseudospectrum-class                    html  
    specplot                                html  
    splitPolarities                         html  
    writeFeaturelist                        html  
** building package indices
** installing vignettes
** testing if installed package can be loaded from temporary location
** testing if installed package can be loaded from final location
** testing if installed package keeps a record of temporary installation path

install for x64

* installing *source* package 'CluMSID' ...
** testing if installed package can be loaded
* MD5 sums
packaged installation of 'CluMSID' as CluMSID_1.9.0.zip
* DONE (CluMSID)
* installing to library 'D:/biocbuild/bbs-3.14-bioc/R/library'
package 'CluMSID' successfully unpacked and MD5 sums checked