Index of /checkResults/3.14/bioc-LATEST/CluMSID/raw-results

[ICO]NameLast modifiedSizeDescription

[DIR]Parent Directory  -  
[   ]info.dcf24-Oct-2021 03:06 273  
[DIR]merida1/24-Oct-2021 03:06 -  
[DIR]nebbiolo2/24-Oct-2021 03:05 -  
[DIR]riesling1/24-Oct-2021 03:06 -