Back to Multiple platform build/check report for BioC 3.14
AB[C]DEFGHIJKLMNOPQRSTUVWXYZ

This page was generated on 2021-10-23 14:05:56 -0400 (Sat, 23 Oct 2021).

INSTALL results for CluMSID on nebbiolo2

To the developers/maintainers of the CluMSID package:
- Please allow up to 24 hours (and sometimes 48 hours) for your latest push to git@git.bioconductor.org:packages/CluMSID.git to
reflect on this report. See How and When does the builder pull? When will my changes propagate? here for more information.
- Make sure to use the following settings in order to reproduce any error or warning you see on this page.

raw results

Package 336/2083HostnameOS / ArchINSTALLBUILDCHECKBUILD BIN
CluMSID 1.9.0  (landing page)
Tobias Depke
Snapshot Date: 2021-10-22 14:50:11 -0400 (Fri, 22 Oct 2021)
git_url: https://git.bioconductor.org/packages/CluMSID
git_branch: master
git_last_commit: 274ee44
git_last_commit_date: 2021-05-19 12:40:12 -0400 (Wed, 19 May 2021)
nebbiolo2Linux (Ubuntu 20.04.2 LTS) / x86_64  OK    OK    OK  UNNEEDED, same version is already published
riesling1Windows Server 2019 Standard / x64  OK    OK    OK    OK  UNNEEDED, same version is already published
merida1macOS 10.14.6 Mojave / x86_64  OK    OK    OK    OK  UNNEEDED, same version is already published

Summary

Package: CluMSID
Version: 1.9.0
Command: /home/biocbuild/bbs-3.14-bioc/R/bin/R CMD INSTALL CluMSID
StartedAt: 2021-10-22 16:18:47 -0400 (Fri, 22 Oct 2021)
EndedAt: 2021-10-22 16:19:04 -0400 (Fri, 22 Oct 2021)
EllapsedTime: 17.2 seconds
RetCode: 0
Status:   OK  

Command output

##############################################################################
##############################################################################
###
### Running command:
###
###   /home/biocbuild/bbs-3.14-bioc/R/bin/R CMD INSTALL CluMSID
###
##############################################################################
##############################################################################


* installing to library ‘/home/biocbuild/bbs-3.14-bioc/R/library’
* installing *source* package ‘CluMSID’ ...
** using staged installation
** R
** byte-compile and prepare package for lazy loading
** help
*** installing help indices
** building package indices
** installing vignettes
** testing if installed package can be loaded from temporary location
** testing if installed package can be loaded from final location
** testing if installed package keeps a record of temporary installation path
* DONE (CluMSID)