Name | Last modified | Size | Description | |
---|---|---|---|---|
Parent Directory | - | |||
checksrc-out.txt | 14-Apr-2022 01:07 | 15K | ||
buildbin-out.txt | 14-Apr-2022 01:07 | 8.5K | ||
install-out.txt | 14-Apr-2022 01:07 | 7.6K | ||
buildsrc-out.txt | 14-Apr-2022 01:07 | 917 | ||
buildbin-summary.dcf | 14-Apr-2022 01:07 | 542 | ||
checksrc-summary.dcf | 14-Apr-2022 01:07 | 458 | ||
buildsrc-summary.dcf | 14-Apr-2022 01:07 | 434 | ||
install-summary.dcf | 14-Apr-2022 01:07 | 273 | ||