Name | Last modified | Size | Description | |
---|---|---|---|---|
Parent Directory | - | |||
install-summary.dcf | 14-Apr-2022 01:07 | 266 | ||
buildsrc-summary.dcf | 14-Apr-2022 01:07 | 422 | ||
checksrc-summary.dcf | 14-Apr-2022 01:07 | 442 | ||
buildbin-summary.dcf | 14-Apr-2022 01:07 | 519 | ||
buildsrc-out.txt | 14-Apr-2022 01:07 | 848 | ||
install-out.txt | 14-Apr-2022 01:07 | 4.4K | ||
buildbin-out.txt | 14-Apr-2022 01:07 | 4.6K | ||
checksrc-out.txt | 14-Apr-2022 01:07 | 6.1K | ||