Name | Last modified | Size | Description | |
---|---|---|---|---|
Parent Directory | - | |||
install-out.txt | 14-Apr-2022 01:06 | 7.4K | ||
buildbin-out.txt | 14-Apr-2022 01:06 | 6.7K | ||
checksrc-out.txt | 14-Apr-2022 01:06 | 6.0K | ||
buildsrc-out.txt | 14-Apr-2022 01:06 | 956 | ||
install-summary.dcf | 14-Apr-2022 01:06 | 671 | ||
buildbin-summary.dcf | 14-Apr-2022 01:06 | 559 | ||
checksrc-summary.dcf | 14-Apr-2022 01:06 | 476 | ||
buildsrc-summary.dcf | 14-Apr-2022 01:06 | 473 | ||